BEGIN:VCALENDAR
VERSION:2.0
PRODID:-//Real e Ilustre Colegio de Abogados de Zaragoza - ECPv6.15.8//NONSGML v1.0//EN
CALSCALE:GREGORIAN
METHOD:PUBLISH
X-ORIGINAL-URL:https://www.reicaz.es
X-WR-CALDESC:Eventos para Real e Ilustre Colegio de Abogados de Zaragoza
REFRESH-INTERVAL;VALUE=DURATION:PT1H
X-Robots-Tag:noindex
X-PUBLISHED-TTL:PT1H
BEGIN:VTIMEZONE
TZID:Europe/Madrid
BEGIN:DAYLIGHT
TZOFFSETFROM:+0100
TZOFFSETTO:+0200
TZNAME:CEST
DTSTART:20250330T010000
END:DAYLIGHT
BEGIN:STANDARD
TZOFFSETFROM:+0200
TZOFFSETTO:+0100
TZNAME:CET
DTSTART:20251026T010000
END:STANDARD
BEGIN:DAYLIGHT
TZOFFSETFROM:+0100
TZOFFSETTO:+0200
TZNAME:CEST
DTSTART:20260329T010000
END:DAYLIGHT
BEGIN:STANDARD
TZOFFSETFROM:+0200
TZOFFSETTO:+0100
TZNAME:CET
DTSTART:20261025T010000
END:STANDARD
BEGIN:DAYLIGHT
TZOFFSETFROM:+0100
TZOFFSETTO:+0200
TZNAME:CEST
DTSTART:20270328T010000
END:DAYLIGHT
BEGIN:STANDARD
TZOFFSETFROM:+0200
TZOFFSETTO:+0100
TZNAME:CET
DTSTART:20271031T010000
END:STANDARD
END:VTIMEZONE
BEGIN:VEVENT
DTSTART;TZID=Europe/Madrid:20260601T170000
DTEND;TZID=Europe/Madrid:20260601T203000
DTSTAMP:20260421T042625
CREATED:20260407T125815Z
LAST-MODIFIED:20260407T125815Z
UID:10000446-1780333200-1780345800@www.reicaz.es
SUMMARY:Curso de Especialización en Defensa de las Víctimas de Violencia Doméstica y de Género
DESCRIPTION:DESCARGAR PDF \nINSCRIPCIÓN
URL:https://www.reicaz.es/agenda/curso-victimas-de-violencia-domestica-260601/
LOCATION:Planta 4ª\, Aula 5
CATEGORIES:Formación
ATTACH;FMTTYPE=image/jpeg:https://www.reicaz.es/wp-content/uploads/2026/04/cviogen200x200.jpg
END:VEVENT
BEGIN:VEVENT
DTSTART;TZID=Europe/Madrid:20260603T170000
DTEND;TZID=Europe/Madrid:20260603T203000
DTSTAMP:20260421T042625
CREATED:20260408T071348Z
LAST-MODIFIED:20260408T071348Z
UID:10000447-1780506000-1780518600@www.reicaz.es
SUMMARY:Curso de Especialización en Defensa de las Víctimas de Violencia Doméstica y de Género
DESCRIPTION:DESCARGAR PDF \nINSCRIPCIÓN
URL:https://www.reicaz.es/agenda/curso-victimas-de-violencia-domestica-260603/
LOCATION:Planta 4ª\, Aula 5
CATEGORIES:Formación
ATTACH;FMTTYPE=image/jpeg:https://www.reicaz.es/wp-content/uploads/2026/04/cviogen200x200.jpg
END:VEVENT
BEGIN:VEVENT
DTSTART;TZID=Europe/Madrid:20260608T170000
DTEND;TZID=Europe/Madrid:20260608T203000
DTSTAMP:20260421T042625
CREATED:20260408T071442Z
LAST-MODIFIED:20260408T071442Z
UID:10000448-1780938000-1780950600@www.reicaz.es
SUMMARY:Curso de Especialización en Defensa de las Víctimas de Violencia Doméstica y de Género
DESCRIPTION:DESCARGAR PDF \nINSCRIPCIÓN
URL:https://www.reicaz.es/agenda/curso-victimas-de-violencia-domestica-260608/
LOCATION:Planta 4ª\, Aula 5
CATEGORIES:Formación
ATTACH;FMTTYPE=image/jpeg:https://www.reicaz.es/wp-content/uploads/2026/04/cviogen200x200.jpg
END:VEVENT
BEGIN:VEVENT
DTSTART;TZID=Europe/Madrid:20260610T170000
DTEND;TZID=Europe/Madrid:20260610T203000
DTSTAMP:20260421T042625
CREATED:20260408T071555Z
LAST-MODIFIED:20260408T071555Z
UID:10000449-1781110800-1781123400@www.reicaz.es
SUMMARY:Curso de Especialización en Defensa de las Víctimas de Violencia Doméstica y de Género
DESCRIPTION:DESCARGAR PDF \nINSCRIPCIÓN
URL:https://www.reicaz.es/agenda/curso-victimas-de-violencia-domestica-260610/
LOCATION:Planta 4ª\, Aula 5
CATEGORIES:Formación
ATTACH;FMTTYPE=image/jpeg:https://www.reicaz.es/wp-content/uploads/2026/04/cviogen200x200.jpg
END:VEVENT
END:VCALENDAR