BEGIN:VCALENDAR
VERSION:2.0
PRODID:-//Real e Ilustre Colegio de Abogados de Zaragoza - ECPv6.15.8//NONSGML v1.0//EN
CALSCALE:GREGORIAN
METHOD:PUBLISH
X-ORIGINAL-URL:https://www.reicaz.es
X-WR-CALDESC:Eventos para Real e Ilustre Colegio de Abogados de Zaragoza
REFRESH-INTERVAL;VALUE=DURATION:PT1H
X-Robots-Tag:noindex
X-PUBLISHED-TTL:PT1H
BEGIN:VTIMEZONE
TZID:Europe/Madrid
BEGIN:DAYLIGHT
TZOFFSETFROM:+0100
TZOFFSETTO:+0200
TZNAME:CEST
DTSTART:20240331T010000
END:DAYLIGHT
BEGIN:STANDARD
TZOFFSETFROM:+0200
TZOFFSETTO:+0100
TZNAME:CET
DTSTART:20241027T010000
END:STANDARD
BEGIN:DAYLIGHT
TZOFFSETFROM:+0100
TZOFFSETTO:+0200
TZNAME:CEST
DTSTART:20250330T010000
END:DAYLIGHT
BEGIN:STANDARD
TZOFFSETFROM:+0200
TZOFFSETTO:+0100
TZNAME:CET
DTSTART:20251026T010000
END:STANDARD
BEGIN:DAYLIGHT
TZOFFSETFROM:+0100
TZOFFSETTO:+0200
TZNAME:CEST
DTSTART:20260329T010000
END:DAYLIGHT
BEGIN:STANDARD
TZOFFSETFROM:+0200
TZOFFSETTO:+0100
TZNAME:CET
DTSTART:20261025T010000
END:STANDARD
END:VTIMEZONE
BEGIN:VEVENT
DTSTART;TZID=Europe/Madrid:20250409T180000
DTEND;TZID=Europe/Madrid:20250409T200000
DTSTAMP:20260421T060811
CREATED:20250314T171059Z
LAST-MODIFIED:20250314T171059Z
UID:10000133-1744221600-1744228800@www.reicaz.es
SUMMARY:Taller Práctico de Gestión del Estrés en el Ejercicio de la Abogacía
DESCRIPTION:DESCARGAR PDF
URL:https://www.reicaz.es/agenda/taller-practico-de-gestion-del-estres-en-el-ejercicio-de-la-abogacia-2/
LOCATION:Planta 4ª\, Aula 5
END:VEVENT
BEGIN:VEVENT
DTSTART;TZID=Europe/Madrid:20250402T180000
DTEND;TZID=Europe/Madrid:20250402T200000
DTSTAMP:20260421T060811
CREATED:20250314T170926Z
LAST-MODIFIED:20250314T170926Z
UID:10000132-1743616800-1743624000@www.reicaz.es
SUMMARY:Taller Práctico de Gestión del Estrés en el Ejercicio de la Abogacía
DESCRIPTION:DESCARGAR PDF
URL:https://www.reicaz.es/agenda/taller-practico-de-gestion-del-estres-en-el-ejercicio-de-la-abogacia/
LOCATION:Planta 4ª\, Aula 5
END:VEVENT
END:VCALENDAR