BEGIN:VCALENDAR
VERSION:2.0
PRODID:-//Real e Ilustre Colegio de Abogados de Zaragoza - ECPv6.15.8//NONSGML v1.0//EN
CALSCALE:GREGORIAN
METHOD:PUBLISH
X-WR-CALNAME:Real e Ilustre Colegio de Abogados de Zaragoza
X-ORIGINAL-URL:https://www.reicaz.es
X-WR-CALDESC:Eventos para Real e Ilustre Colegio de Abogados de Zaragoza
REFRESH-INTERVAL;VALUE=DURATION:PT1H
X-Robots-Tag:noindex
X-PUBLISHED-TTL:PT1H
BEGIN:VTIMEZONE
TZID:UTC
BEGIN:STANDARD
TZOFFSETFROM:+0000
TZOFFSETTO:+0000
TZNAME:UTC
DTSTART:20230101T000000
END:STANDARD
END:VTIMEZONE
BEGIN:VEVENT
DTSTART;TZID=UTC:20240410T180000
DTEND;TZID=UTC:20240410T180000
DTSTAMP:20260423T003025
CREATED:20240429T074502Z
LAST-MODIFIED:20240520T053404Z
UID:10000022-1712772000-1712772000@www.reicaz.es
SUMMARY:Taller sobre el Papel del Abogado en los Tribunales Internacionales
DESCRIPTION:DESCARGAR PDF
URL:https://www.reicaz.es/agenda/taller-sobre-el-papel-del-abogado-en-los-tribunales-internacionales-2/
LOCATION:Planta 2ª\, Salón de Decanato
END:VEVENT
BEGIN:VEVENT
DTSTART;TZID=UTC:20240409T173000
DTEND;TZID=UTC:20240409T203000
DTSTAMP:20260423T003025
CREATED:20240429T074407Z
LAST-MODIFIED:20240520T053411Z
UID:10000017-1712683800-1712694600@www.reicaz.es
SUMMARY:Curso de Especialización en Jurisdicción de Menores
DESCRIPTION:DESCARGAR PDF
URL:https://www.reicaz.es/agenda/curso-de-especializacion-en-jurisdiccion-de-menores-8/
LOCATION:Planta 2ª\, Salón de Decanato
END:VEVENT
BEGIN:VEVENT
DTSTART;TZID=UTC:20240408T170000
DTEND;TZID=UTC:20240408T170000
DTSTAMP:20260423T003025
CREATED:20240429T071359Z
LAST-MODIFIED:20240520T053415Z
UID:10000008-1712595600-1712595600@www.reicaz.es
SUMMARY:Curso de especialización en jurisdicción de menores
DESCRIPTION:Observaciones:\nhttp://www.reicaz.org/circubol/boleform/20180319.htm
URL:https://www.reicaz.es/agenda/curso-de-especializacion-en-jurisdiccion-de-menores/
LOCATION:Planta 2ª\, Salón de Decanato
END:VEVENT
BEGIN:VEVENT
DTSTART;TZID=UTC:20240403T180000
DTEND;TZID=UTC:20240403T180000
DTSTAMP:20260423T003025
CREATED:20240429T070810Z
LAST-MODIFIED:20240520T053440Z
UID:10000019-1712167200-1712167200@www.reicaz.es
SUMMARY:Taller sobre el Papel del Abogado en los Tribunales Internacionales
DESCRIPTION:DESCARGAR PDF
URL:https://www.reicaz.es/agenda/taller-sobre-el-papel-del-abogado-en-los-tribunales-internacionales/
LOCATION:Planta 2ª\, Salón de Decanato
END:VEVENT
BEGIN:VEVENT
DTSTART;TZID=UTC:20240322T080000
DTEND;TZID=UTC:20240322T083000
DTSTAMP:20260423T003025
CREATED:20240321T125026Z
LAST-MODIFIED:20240321T125505Z
UID:10000004-1711094400-1711096200@www.reicaz.es
SUMMARY:Mañana Jurídica y Tributaria sobre Autorización de Entrada\, Tiro Único y Principios Generales en la Juridisprudencia del TJUE
DESCRIPTION:
URL:https://www.reicaz.es/agenda/manana-juridica-y-tributaria-sobre-autorizacion-de-entrada-tiro-unico-y-principios-generales-en-la-juridisprudencia-del-tjue/
LOCATION:Planta 2ª\, Salón de Decanato
END:VEVENT
BEGIN:VEVENT
DTSTART;TZID=UTC:20240320T183000
DTEND;TZID=UTC:20240320T183000
DTSTAMP:20260423T003025
CREATED:20240320T120204Z
LAST-MODIFIED:20240320T120342Z
UID:10000001-1710959400-1710959400@www.reicaz.es
SUMMARY:Mesa Redonda sobre Cuestiones Prácticas en la Protección de Secretos Empresariales: Acuerdos de Confidencialidad y Know How
DESCRIPTION:
URL:https://www.reicaz.es/agenda/mesa-redonda-sobre-cuestiones-practicas-en-la-proteccion-de-secretos-empresariales-acuerdos-de-confidencialidad-y-know-how/
LOCATION:Planta 2ª\, Salón de Decanato
END:VEVENT
END:VCALENDAR