BEGIN:VCALENDAR
VERSION:2.0
PRODID:-//Real e Ilustre Colegio de Abogados de Zaragoza - ECPv6.15.8//NONSGML v1.0//EN
CALSCALE:GREGORIAN
METHOD:PUBLISH
X-ORIGINAL-URL:https://www.reicaz.es
X-WR-CALDESC:Eventos para Real e Ilustre Colegio de Abogados de Zaragoza
REFRESH-INTERVAL;VALUE=DURATION:PT1H
X-Robots-Tag:noindex
X-PUBLISHED-TTL:PT1H
BEGIN:VTIMEZONE
TZID:UTC
BEGIN:STANDARD
TZOFFSETFROM:+0000
TZOFFSETTO:+0000
TZNAME:UTC
DTSTART:20230101T000000
END:STANDARD
END:VTIMEZONE
BEGIN:VEVENT
DTSTART;TZID=UTC:20240926T173000
DTEND;TZID=UTC:20240926T203000
DTSTAMP:20260422T181858
CREATED:20240710T064219Z
LAST-MODIFIED:20240710T064219Z
UID:10000076-1727371800-1727382600@www.reicaz.es
SUMMARY:Curso de Acceso al Turno de Oficio y Asistencia al Detenido
DESCRIPTION:DESCARGAR PDF
URL:https://www.reicaz.es/agenda/curso-de-acceso-al-turno-de-oficio-y-asistencia-al-detenido-6/
LOCATION:Planta 2ª\, Salón de Decanato
END:VEVENT
BEGIN:VEVENT
DTSTART;TZID=UTC:20240925T173000
DTEND;TZID=UTC:20240925T203000
DTSTAMP:20260422T181858
CREATED:20240710T064057Z
LAST-MODIFIED:20240710T064057Z
UID:10000075-1727285400-1727296200@www.reicaz.es
SUMMARY:Curso de Especialización en Derecho Penitenciario
DESCRIPTION:DESCARGAR PDF
URL:https://www.reicaz.es/agenda/curso-de-especializacion-en-derecho-penitenciario-6/
LOCATION:Planta 2ª\, Salón de Decanato
END:VEVENT
BEGIN:VEVENT
DTSTART;TZID=UTC:20240924T173000
DTEND;TZID=UTC:20240924T203000
DTSTAMP:20260422T181858
CREATED:20240710T063941Z
LAST-MODIFIED:20240710T063941Z
UID:10000074-1727199000-1727209800@www.reicaz.es
SUMMARY:Curso de Acceso al Turno de Oficio y Asistencia al Detenido
DESCRIPTION:DESCARGAR PDF
URL:https://www.reicaz.es/agenda/curso-de-acceso-al-turno-de-oficio-y-asistencia-al-detenido-5/
LOCATION:Planta 2ª\, Salón de Decanato
END:VEVENT
BEGIN:VEVENT
DTSTART;TZID=UTC:20240923T173000
DTEND;TZID=UTC:20240923T203000
DTSTAMP:20260422T181858
CREATED:20240710T063829Z
LAST-MODIFIED:20240710T063829Z
UID:10000073-1727112600-1727123400@www.reicaz.es
SUMMARY:Curso de Especialización en Derecho Penitenciario
DESCRIPTION:DESCARGAR PDF
URL:https://www.reicaz.es/agenda/curso-de-especializacion-en-derecho-penitenciario-5/
LOCATION:Planta 2ª\, Salón de Decanato
END:VEVENT
BEGIN:VEVENT
DTSTART;TZID=UTC:20240919T173000
DTEND;TZID=UTC:20240919T203000
DTSTAMP:20260422T181858
CREATED:20240710T063716Z
LAST-MODIFIED:20240710T063716Z
UID:10000072-1726767000-1726777800@www.reicaz.es
SUMMARY:Curso de Acceso al Turno de Oficio y Asistencia al Detenido
DESCRIPTION:DESCARGAR PDF
URL:https://www.reicaz.es/agenda/curso-de-acceso-al-turno-de-oficio-y-asistencia-al-detenido-4/
LOCATION:Planta 2ª\, Salón de Decanato
END:VEVENT
BEGIN:VEVENT
DTSTART;TZID=UTC:20240919T170000
DTEND;TZID=UTC:20240919T180000
DTSTAMP:20260422T181858
CREATED:20240926T075959Z
LAST-MODIFIED:20240926T075959Z
UID:10000089-1726765200-1726768800@www.reicaz.es
SUMMARY:Jornada sobre Responsabilidad Patrimonial
DESCRIPTION:DESCARGAR PDF
URL:https://www.reicaz.es/agenda/jornada-sobre-responsabilidad-patrimonial/
LOCATION:Planta 2ª\, Salón de Decanato
END:VEVENT
BEGIN:VEVENT
DTSTART;TZID=UTC:20240918T173000
DTEND;TZID=UTC:20240918T203000
DTSTAMP:20260422T181858
CREATED:20240710T063607Z
LAST-MODIFIED:20240710T063607Z
UID:10000071-1726680600-1726691400@www.reicaz.es
SUMMARY:Curso de Especialización en Derecho Penitenciario
DESCRIPTION:DESCARGAR PDF
URL:https://www.reicaz.es/agenda/curso-de-especializacion-en-derecho-penitenciario-4/
LOCATION:Planta 2ª\, Salón de Decanato
END:VEVENT
BEGIN:VEVENT
DTSTART;TZID=UTC:20240917T173000
DTEND;TZID=UTC:20240917T203000
DTSTAMP:20260422T181858
CREATED:20240710T063038Z
LAST-MODIFIED:20240710T063533Z
UID:10000070-1726594200-1726605000@www.reicaz.es
SUMMARY:Curso de Acceso al Turno de Oficio y Asistencia al Detenido
DESCRIPTION:DESCARGAR PDF
URL:https://www.reicaz.es/agenda/curso-de-acceso-al-turno-de-oficio-y-asistencia-al-detenido-3/
LOCATION:Planta 2ª\, Salón de Decanato
END:VEVENT
BEGIN:VEVENT
DTSTART;TZID=UTC:20240916T173000
DTEND;TZID=UTC:20240916T203000
DTSTAMP:20260422T181858
CREATED:20240710T062832Z
LAST-MODIFIED:20240710T062832Z
UID:10000069-1726507800-1726518600@www.reicaz.es
SUMMARY:Curso de Especialización en Derecho Penitenciario
DESCRIPTION:DESCARGAR PDF
URL:https://www.reicaz.es/agenda/curso-de-especializacion-en-derecho-penitenciario-3/
LOCATION:Planta 2ª\, Salón de Decanato
END:VEVENT
BEGIN:VEVENT
DTSTART;TZID=UTC:20240912T173000
DTEND;TZID=UTC:20240912T203000
DTSTAMP:20260422T181858
CREATED:20240710T062604Z
LAST-MODIFIED:20240710T062918Z
UID:10000068-1726162200-1726173000@www.reicaz.es
SUMMARY:Curso de Acceso al Turno de Oficio y Asistencia al Detenido
DESCRIPTION:DESCARGAR PDF
URL:https://www.reicaz.es/agenda/curso-de-acceso-al-turno-de-oficio-y-asistencia-al-detenido-2/
LOCATION:Planta 2ª\, Salón de Decanato
END:VEVENT
BEGIN:VEVENT
DTSTART;TZID=UTC:20240911T173000
DTEND;TZID=UTC:20240911T203000
DTSTAMP:20260422T181858
CREATED:20240710T062424Z
LAST-MODIFIED:20240710T062902Z
UID:10000067-1726075800-1726086600@www.reicaz.es
SUMMARY:Curso de Especialización en Derecho Penitenciario
DESCRIPTION:DESCARGAR PDF
URL:https://www.reicaz.es/agenda/curso-de-especializacion-en-derecho-penitenciario-2/
LOCATION:Planta 2ª\, Salón de Decanato
END:VEVENT
BEGIN:VEVENT
DTSTART;TZID=UTC:20240910T173000
DTEND;TZID=UTC:20240910T203000
DTSTAMP:20260422T181858
CREATED:20240710T062311Z
LAST-MODIFIED:20240710T062311Z
UID:10000066-1725989400-1726000200@www.reicaz.es
SUMMARY:Curso de Acceso al Turno de Oficio y Asistencia al Detenido
DESCRIPTION:DESCARGAR PDF
URL:https://www.reicaz.es/agenda/curso-de-acceso-al-turno-de-oficio-y-asistencia-al-detenido/
LOCATION:Planta 2ª\, Salón de Decanato
END:VEVENT
BEGIN:VEVENT
DTSTART;TZID=UTC:20240909T173000
DTEND;TZID=UTC:20240909T203000
DTSTAMP:20260422T181858
CREATED:20240710T061930Z
LAST-MODIFIED:20240710T062050Z
UID:10000065-1725903000-1725913800@www.reicaz.es
SUMMARY:Curso de Especialización en Derecho Penitenciario
DESCRIPTION:DESCARGAR PDF
URL:https://www.reicaz.es/agenda/curso-de-especializacion-en-derecho-penitenciario/
LOCATION:Planta 2ª\, Salón de Decanato
END:VEVENT
BEGIN:VEVENT
DTSTART;TZID=UTC:20240715T180000
DTEND;TZID=UTC:20240715T200000
DTSTAMP:20260422T181858
CREATED:20240710T061528Z
LAST-MODIFIED:20240710T061528Z
UID:10000064-1721066400-1721073600@www.reicaz.es
SUMMARY:Charla: ¿Conoces los Requisitos para Evitar el Ingreso de tu Cliente en Prisión?: Instrucción 6/20 de la Secretaría General de Instituciones Penitenciarias para el Acceso Directo al Régimen Abierto
DESCRIPTION:DESCARGAR PDF
URL:https://www.reicaz.es/agenda/charla-conoces-los-requisitos-para-evitar-el-ingreso-de-tu-cliente-en-prision-instruccion-6-20-de-la-secretaria-general-de-instituciones-penitenciarias-para-el-acceso-directo-al-regimen-abier/
LOCATION:Planta 2ª\, Salón de Decanato
END:VEVENT
BEGIN:VEVENT
DTSTART;TZID=UTC:20240712T123000
DTEND;TZID=UTC:20240712T140000
DTSTAMP:20260422T181858
CREATED:20240710T061247Z
LAST-MODIFIED:20240710T061247Z
UID:10000063-1720787400-1720792800@www.reicaz.es
SUMMARY:Charla-Coloquio: Banca-Seguros\, Más Allá de la Línea Roja
DESCRIPTION:DESCARGAR PDF
URL:https://www.reicaz.es/agenda/charla-coloquio-banca-seguros-mas-alla-de-la-linea-roja/
LOCATION:Planta 2ª\, Salón de Decanato
END:VEVENT
BEGIN:VEVENT
DTSTART;TZID=UTC:20240626T173000
DTEND;TZID=UTC:20240626T203000
DTSTAMP:20260422T181858
CREATED:20240625T072459Z
LAST-MODIFIED:20240625T072459Z
UID:10000055-1719423000-1719433800@www.reicaz.es
SUMMARY:Curso de Especialización en Derecho de Extranjería
DESCRIPTION:DESCARGAR PDF
URL:https://www.reicaz.es/agenda/curso-de-especializacion-en-derecho-de-extranjeria-11/
LOCATION:Planta 2ª\, Salón de Decanato
END:VEVENT
BEGIN:VEVENT
DTSTART;TZID=UTC:20240626T170000
DTEND;TZID=UTC:20240626T190000
DTSTAMP:20260422T181858
CREATED:20240625T072658Z
LAST-MODIFIED:20240625T072658Z
UID:10000056-1719421200-1719428400@www.reicaz.es
SUMMARY:Taller de Tecnología y Emprendimiento en la Abogacía
DESCRIPTION:DESCARGAR PDF
URL:https://www.reicaz.es/agenda/taller-de-tecnologia-y-emprendimiento-en-la-abogacia/
LOCATION:Planta 2ª\, Salón de Decanato
END:VEVENT
BEGIN:VEVENT
DTSTART;TZID=UTC:20240625T173000
DTEND;TZID=UTC:20240625T203000
DTSTAMP:20260422T181858
CREATED:20240429T091605Z
LAST-MODIFIED:20240520T053136Z
UID:10000044-1719336600-1719347400@www.reicaz.es
SUMMARY:Curso de Especialización en Derecho de Extranjería
DESCRIPTION:DESCARGAR PDF
URL:https://www.reicaz.es/agenda/curso-de-especializacion-en-derecho-de-extranjeria-8/
LOCATION:Planta 2ª\, Salón de Decanato
END:VEVENT
BEGIN:VEVENT
DTSTART;TZID=UTC:20240620T173000
DTEND;TZID=UTC:20240620T203000
DTSTAMP:20260422T181858
CREATED:20240429T091418Z
LAST-MODIFIED:20240520T053139Z
UID:10000043-1718904600-1718915400@www.reicaz.es
SUMMARY:Curso de Especialización en Derecho de Extranjería
DESCRIPTION:DESCARGAR PDF
URL:https://www.reicaz.es/agenda/curso-de-especializacion-en-derecho-de-extranjeria-7/
LOCATION:Planta 2ª\, Salón de Decanato
END:VEVENT
BEGIN:VEVENT
DTSTART;TZID=UTC:20240618T173000
DTEND;TZID=UTC:20240618T203000
DTSTAMP:20260422T181858
CREATED:20240625T072043Z
LAST-MODIFIED:20240625T072043Z
UID:10000054-1718731800-1718742600@www.reicaz.es
SUMMARY:Curso de Especialización en Derecho de Extranjería
DESCRIPTION:DESCARGAR PDF
URL:https://www.reicaz.es/agenda/curso-de-especializacion-en-derecho-de-extranjeria-10/
LOCATION:Planta 2ª\, Salón de Decanato
END:VEVENT
BEGIN:VEVENT
DTSTART;TZID=UTC:20240614T120000
DTEND;TZID=UTC:20240614T140000
DTSTAMP:20260422T181858
CREATED:20240625T071824Z
LAST-MODIFIED:20240625T071824Z
UID:10000053-1718366400-1718373600@www.reicaz.es
SUMMARY:Charla sobre como Abordar el Interrogatorio de Menores Víctimas de Violencia: La Prueba Preconstituida
DESCRIPTION:DESCARGAR PDF
URL:https://www.reicaz.es/agenda/charla-sobre-como-abordar-el-interrogatorio-de-menores-victimas-de-violencia-la-prueba-preconstituida/
LOCATION:Planta 2ª\, Salón de Decanato
END:VEVENT
BEGIN:VEVENT
DTSTART;TZID=UTC:20240613T173000
DTEND;TZID=UTC:20240613T203000
DTSTAMP:20260422T181858
CREATED:20240625T071210Z
LAST-MODIFIED:20240625T071210Z
UID:10000051-1718299800-1718310600@www.reicaz.es
SUMMARY:Curso de Especialización en Derecho de Extranjería
DESCRIPTION:DESCARGAR PDF
URL:https://www.reicaz.es/agenda/curso-de-especializacion-en-derecho-de-extranjeria-9/
LOCATION:Planta 2ª\, Salón de Decanato
END:VEVENT
BEGIN:VEVENT
DTSTART;TZID=UTC:20240611T173000
DTEND;TZID=UTC:20240611T203000
DTSTAMP:20260422T181858
CREATED:20240429T090848Z
LAST-MODIFIED:20240520T053142Z
UID:10000040-1718127000-1718137800@www.reicaz.es
SUMMARY:Curso de Especialización en Derecho de Extranjería
DESCRIPTION:DESCARGAR PDF
URL:https://www.reicaz.es/agenda/curso-de-especializacion-en-derecho-de-extranjeria-4/
LOCATION:Planta 2ª\, Salón de Decanato
END:VEVENT
BEGIN:VEVENT
DTSTART;TZID=UTC:20240610T170000
DTEND;TZID=UTC:20240610T203000
DTSTAMP:20260422T181858
CREATED:20240429T090658Z
LAST-MODIFIED:20240520T053145Z
UID:10000039-1718038800-1718051400@www.reicaz.es
SUMMARY:Curso de Especialización en Defensa de las Víctimas de Violencia Doméstica y de Género
DESCRIPTION:DESCARGAR PDF
URL:https://www.reicaz.es/agenda/curso-de-especializacion-en-defensa-de-las-victimas-de-violencia-domestica-y-de-genero-7/
LOCATION:Planta 2ª\, Salón de Decanato
END:VEVENT
BEGIN:VEVENT
DTSTART;TZID=UTC:20240606T170000
DTEND;TZID=UTC:20240606T203000
DTSTAMP:20260422T181858
CREATED:20240429T090506Z
LAST-MODIFIED:20240520T053155Z
UID:10000038-1717693200-1717705800@www.reicaz.es
SUMMARY:Curso de Especialización en Defensa de las Víctimas de Violencia Doméstica y de Género
DESCRIPTION:DESCARGAR PDF
URL:https://www.reicaz.es/agenda/curso-de-especializacion-en-defensa-de-las-victimas-de-violencia-domestica-y-de-genero-6/
LOCATION:Planta 2ª\, Salón de Decanato
END:VEVENT
BEGIN:VEVENT
DTSTART;TZID=UTC:20240605T190000
DTEND;TZID=UTC:20240605T203000
DTSTAMP:20260422T181858
CREATED:20240429T091800Z
LAST-MODIFIED:20240625T070558Z
UID:10000045-1717614000-1717619400@www.reicaz.es
SUMMARY:Charla: Cuarenta Años del Delito Ecológico
DESCRIPTION:DESCARGAR PDF
URL:https://www.reicaz.es/agenda/charla-cuarenta-anos-del-delito-ecologico/
LOCATION:Planta 2ª\, Salón de Decanato
END:VEVENT
BEGIN:VEVENT
DTSTART;TZID=UTC:20240604T170000
DTEND;TZID=UTC:20240604T203000
DTSTAMP:20260422T181858
CREATED:20240429T090237Z
LAST-MODIFIED:20240520T053159Z
UID:10000037-1717520400-1717533000@www.reicaz.es
SUMMARY:Curso de Especialización en Defensa de las Víctimas de Violencia Doméstica y de Género
DESCRIPTION:DESCARGAR PDF
URL:https://www.reicaz.es/agenda/curso-de-especializacion-en-defensa-de-las-victimas-de-violencia-domestica-y-de-genero-5/
LOCATION:Planta 2ª\, Salón de Decanato
END:VEVENT
BEGIN:VEVENT
DTSTART;TZID=UTC:20240603T173000
DTEND;TZID=UTC:20240603T203000
DTSTAMP:20260422T181858
CREATED:20240429T090007Z
LAST-MODIFIED:20240520T053202Z
UID:10000036-1717435800-1717446600@www.reicaz.es
SUMMARY:Curso de Especialización en Derecho de Extranjería
DESCRIPTION:DESCARGAR PDF
URL:https://www.reicaz.es/agenda/curso-de-especializacion-en-derecho-de-extranjeria-3/
LOCATION:Planta 2ª\, Salón de Decanato
END:VEVENT
BEGIN:VEVENT
DTSTART;TZID=UTC:20240531T123000
DTEND;TZID=UTC:20240531T143000
DTSTAMP:20260422T181858
CREATED:20240625T074007Z
LAST-MODIFIED:20240625T074007Z
UID:10000061-1717158600-1717165800@www.reicaz.es
SUMMARY:Charla sobre el Cuestionario de Salud en el Contrato de Seguro
DESCRIPTION:DESCARGAR PDF
URL:https://www.reicaz.es/agenda/charla-sobre-el-cuestionario-de-salud-en-el-contrato-de-seguro/
LOCATION:Planta 2ª\, Salón de Decanato
END:VEVENT
BEGIN:VEVENT
DTSTART;TZID=UTC:20240530T170000
DTEND;TZID=UTC:20240530T203000
DTSTAMP:20260422T181858
CREATED:20240429T085720Z
LAST-MODIFIED:20240520T053205Z
UID:10000035-1717088400-1717101000@www.reicaz.es
SUMMARY:Curso de Especialización en Defensa de las Víctimas de Violencia Doméstica y de Género
DESCRIPTION:DESCARGAR PDF
URL:https://www.reicaz.es/agenda/curso-de-especializacion-en-defensa-de-las-victimas-de-violencia-domestica-y-de-genero-4/
LOCATION:Planta 2ª\, Salón de Decanato
END:VEVENT
END:VCALENDAR