BEGIN:VCALENDAR
VERSION:2.0
PRODID:-//Real e Ilustre Colegio de Abogados de Zaragoza - ECPv6.15.8//NONSGML v1.0//EN
CALSCALE:GREGORIAN
METHOD:PUBLISH
X-WR-CALNAME:Real e Ilustre Colegio de Abogados de Zaragoza
X-ORIGINAL-URL:https://www.reicaz.es
X-WR-CALDESC:Eventos para Real e Ilustre Colegio de Abogados de Zaragoza
REFRESH-INTERVAL;VALUE=DURATION:PT1H
X-Robots-Tag:noindex
X-PUBLISHED-TTL:PT1H
BEGIN:VTIMEZONE
TZID:Europe/Madrid
BEGIN:DAYLIGHT
TZOFFSETFROM:+0100
TZOFFSETTO:+0200
TZNAME:CEST
DTSTART:20250330T010000
END:DAYLIGHT
BEGIN:STANDARD
TZOFFSETFROM:+0200
TZOFFSETTO:+0100
TZNAME:CET
DTSTART:20251026T010000
END:STANDARD
BEGIN:DAYLIGHT
TZOFFSETFROM:+0100
TZOFFSETTO:+0200
TZNAME:CEST
DTSTART:20260329T010000
END:DAYLIGHT
BEGIN:STANDARD
TZOFFSETFROM:+0200
TZOFFSETTO:+0100
TZNAME:CET
DTSTART:20261025T010000
END:STANDARD
BEGIN:DAYLIGHT
TZOFFSETFROM:+0100
TZOFFSETTO:+0200
TZNAME:CEST
DTSTART:20270328T010000
END:DAYLIGHT
BEGIN:STANDARD
TZOFFSETFROM:+0200
TZOFFSETTO:+0100
TZNAME:CET
DTSTART:20271031T010000
END:STANDARD
END:VTIMEZONE
BEGIN:VEVENT
DTSTART;TZID=Europe/Madrid:20260602T173000
DTEND;TZID=Europe/Madrid:20260602T203000
DTSTAMP:20260422T115353
CREATED:20260408T072155Z
LAST-MODIFIED:20260408T072507Z
UID:10000450-1780421400-1780432200@www.reicaz.es
SUMMARY:Curso de Especialización en Derecho Penitenciario
DESCRIPTION:DESCARGAR PDF \nINSCRIPCIÓN
URL:https://www.reicaz.es/agenda/curso-de-derecho-penitenciario-260602/
LOCATION:Planta 2ª\, Salón de Decanato
CATEGORIES:Formación
ATTACH;FMTTYPE=image/jpeg:https://www.reicaz.es/wp-content/uploads/2025/10/cdp200x200.jpg
END:VEVENT
BEGIN:VEVENT
DTSTART;TZID=Europe/Madrid:20260604T173000
DTEND;TZID=Europe/Madrid:20260604T203000
DTSTAMP:20260422T115353
CREATED:20260408T072547Z
LAST-MODIFIED:20260408T072547Z
UID:10000451-1780594200-1780605000@www.reicaz.es
SUMMARY:Curso de Especialización en Derecho Penitenciario
DESCRIPTION:DESCARGAR PDF \nINSCRIPCIÓN
URL:https://www.reicaz.es/agenda/curso-de-derecho-penitenciario-260604/
LOCATION:Planta 2ª\, Salón de Decanato
CATEGORIES:Formación
ATTACH;FMTTYPE=image/jpeg:https://www.reicaz.es/wp-content/uploads/2025/10/cdp200x200.jpg
END:VEVENT
BEGIN:VEVENT
DTSTART;TZID=Europe/Madrid:20260611T173000
DTEND;TZID=Europe/Madrid:20260611T203000
DTSTAMP:20260422T115353
CREATED:20260408T072646Z
LAST-MODIFIED:20260408T072646Z
UID:10000452-1781199000-1781209800@www.reicaz.es
SUMMARY:Curso de Especialización en Derecho Penitenciario
DESCRIPTION:DESCARGAR PDF \nINSCRIPCIÓN
URL:https://www.reicaz.es/agenda/curso-de-derecho-penitenciario-260611/
LOCATION:Planta 2ª\, Salón de Decanato
CATEGORIES:Formación
ATTACH;FMTTYPE=image/jpeg:https://www.reicaz.es/wp-content/uploads/2025/10/cdp200x200.jpg
END:VEVENT
BEGIN:VEVENT
DTSTART;TZID=Europe/Madrid:20260616T173000
DTEND;TZID=Europe/Madrid:20260616T203000
DTSTAMP:20260422T115353
CREATED:20260408T085856Z
LAST-MODIFIED:20260408T085856Z
UID:10000459-1781631000-1781641800@www.reicaz.es
SUMMARY:Curso de Especialización en Derecho Penitenciario
DESCRIPTION:DESCARGAR PDF \nINSCRIPCIÓN
URL:https://www.reicaz.es/agenda/curso-de-derecho-penitenciario-260616/
LOCATION:Planta 2ª\, Salón de Decanato
CATEGORIES:Formación
ATTACH;FMTTYPE=image/jpeg:https://www.reicaz.es/wp-content/uploads/2025/10/cdp200x200.jpg
END:VEVENT
BEGIN:VEVENT
DTSTART;TZID=Europe/Madrid:20260618T173000
DTEND;TZID=Europe/Madrid:20260618T203000
DTSTAMP:20260422T115353
CREATED:20260408T073802Z
LAST-MODIFIED:20260408T085610Z
UID:10000453-1781803800-1781814600@www.reicaz.es
SUMMARY:Curso de Especialización en Derecho Penitenciario
DESCRIPTION:DESCARGAR PDF \nINSCRIPCIÓN
URL:https://www.reicaz.es/agenda/curso-de-derecho-penitenciario-260618/
LOCATION:Planta 2ª\, Salón de Decanato
CATEGORIES:Formación
ATTACH;FMTTYPE=image/jpeg:https://www.reicaz.es/wp-content/uploads/2025/10/cdp200x200.jpg
END:VEVENT
BEGIN:VEVENT
DTSTART;TZID=Europe/Madrid:20260622T173000
DTEND;TZID=Europe/Madrid:20260622T203000
DTSTAMP:20260422T115353
CREATED:20260408T083554Z
LAST-MODIFIED:20260408T083554Z
UID:10000454-1782149400-1782160200@www.reicaz.es
SUMMARY:Curso de Especialización en Derecho Penitenciario
DESCRIPTION:DESCARGAR PDF \nINSCRIPCIÓN
URL:https://www.reicaz.es/agenda/curso-de-derecho-penitenciario-260622/
LOCATION:Planta 2ª\, Salón de Decanato
CATEGORIES:Formación
ATTACH;FMTTYPE=image/jpeg:https://www.reicaz.es/wp-content/uploads/2025/10/cdp200x200.jpg
END:VEVENT
BEGIN:VEVENT
DTSTART;TZID=Europe/Madrid:20260623T173000
DTEND;TZID=Europe/Madrid:20260623T203000
DTSTAMP:20260422T115353
CREATED:20260408T084132Z
LAST-MODIFIED:20260408T084132Z
UID:10000455-1782235800-1782246600@www.reicaz.es
SUMMARY:Curso de Especialización en Derecho Penitenciario
DESCRIPTION:DESCARGAR PDF \nINSCRIPCIÓN
URL:https://www.reicaz.es/agenda/curso-de-derecho-penitenciario-260623/
LOCATION:Planta 2ª\, Salón de Decanato
CATEGORIES:Formación
ATTACH;FMTTYPE=image/jpeg:https://www.reicaz.es/wp-content/uploads/2025/10/cdp200x200.jpg
END:VEVENT
BEGIN:VEVENT
DTSTART;TZID=Europe/Madrid:20260625T173000
DTEND;TZID=Europe/Madrid:20260625T203000
DTSTAMP:20260422T115353
CREATED:20260408T084903Z
LAST-MODIFIED:20260408T085649Z
UID:10000456-1782408600-1782419400@www.reicaz.es
SUMMARY:Curso de Especialización en Derecho Penitenciario
DESCRIPTION:DESCARGAR PDF \nINSCRIPCIÓN
URL:https://www.reicaz.es/agenda/curso-de-derecho-penitenciario-260625/
LOCATION:Planta 2ª\, Salón de Decanato
CATEGORIES:Formación
ATTACH;FMTTYPE=image/jpeg:https://www.reicaz.es/wp-content/uploads/2025/10/cdp200x200.jpg
END:VEVENT
BEGIN:VEVENT
DTSTART;TZID=Europe/Madrid:20260629T173000
DTEND;TZID=Europe/Madrid:20260629T203000
DTSTAMP:20260422T115353
CREATED:20260408T085314Z
LAST-MODIFIED:20260408T085314Z
UID:10000457-1782754200-1782765000@www.reicaz.es
SUMMARY:Curso de Especialización en Derecho Penitenciario
DESCRIPTION:DESCARGAR PDF \nINSCRIPCIÓN
URL:https://www.reicaz.es/agenda/curso-de-derecho-penitenciario-260629/
LOCATION:Planta 2ª\, Salón de Decanato
CATEGORIES:Formación
ATTACH;FMTTYPE=image/jpeg:https://www.reicaz.es/wp-content/uploads/2025/10/cdp200x200.jpg
END:VEVENT
BEGIN:VEVENT
DTSTART;TZID=Europe/Madrid:20260630T173000
DTEND;TZID=Europe/Madrid:20260630T203000
DTSTAMP:20260422T115353
CREATED:20260408T085416Z
LAST-MODIFIED:20260408T085416Z
UID:10000458-1782840600-1782851400@www.reicaz.es
SUMMARY:Curso de Especialización en Derecho Penitenciario
DESCRIPTION:DESCARGAR PDF \nINSCRIPCIÓN
URL:https://www.reicaz.es/agenda/curso-de-derecho-penitenciario-260630/
LOCATION:Planta 2ª\, Salón de Decanato
CATEGORIES:Formación
ATTACH;FMTTYPE=image/jpeg:https://www.reicaz.es/wp-content/uploads/2025/10/cdp200x200.jpg
END:VEVENT
END:VCALENDAR