BEGIN:VCALENDAR
VERSION:2.0
PRODID:-//Real e Ilustre Colegio de Abogados de Zaragoza - ECPv6.15.8//NONSGML v1.0//EN
CALSCALE:GREGORIAN
METHOD:PUBLISH
X-ORIGINAL-URL:https://www.reicaz.es
X-WR-CALDESC:Eventos para Real e Ilustre Colegio de Abogados de Zaragoza
REFRESH-INTERVAL;VALUE=DURATION:PT1H
X-Robots-Tag:noindex
X-PUBLISHED-TTL:PT1H
BEGIN:VTIMEZONE
TZID:Europe/Madrid
BEGIN:DAYLIGHT
TZOFFSETFROM:+0100
TZOFFSETTO:+0200
TZNAME:CEST
DTSTART:20240331T010000
END:DAYLIGHT
BEGIN:STANDARD
TZOFFSETFROM:+0200
TZOFFSETTO:+0100
TZNAME:CET
DTSTART:20241027T010000
END:STANDARD
BEGIN:DAYLIGHT
TZOFFSETFROM:+0100
TZOFFSETTO:+0200
TZNAME:CEST
DTSTART:20250330T010000
END:DAYLIGHT
BEGIN:STANDARD
TZOFFSETFROM:+0200
TZOFFSETTO:+0100
TZNAME:CET
DTSTART:20251026T010000
END:STANDARD
BEGIN:DAYLIGHT
TZOFFSETFROM:+0100
TZOFFSETTO:+0200
TZNAME:CEST
DTSTART:20260329T010000
END:DAYLIGHT
BEGIN:STANDARD
TZOFFSETFROM:+0200
TZOFFSETTO:+0100
TZNAME:CET
DTSTART:20261025T010000
END:STANDARD
BEGIN:DAYLIGHT
TZOFFSETFROM:+0100
TZOFFSETTO:+0200
TZNAME:CEST
DTSTART:20270328T010000
END:DAYLIGHT
BEGIN:STANDARD
TZOFFSETFROM:+0200
TZOFFSETTO:+0100
TZNAME:CET
DTSTART:20271031T010000
END:STANDARD
END:VTIMEZONE
BEGIN:VTIMEZONE
TZID:UTC
BEGIN:STANDARD
TZOFFSETFROM:+0000
TZOFFSETTO:+0000
TZNAME:UTC
DTSTART:20230101T000000
END:STANDARD
END:VTIMEZONE
BEGIN:VEVENT
DTSTART;TZID=Europe/Madrid:20260421T183000
DTEND;TZID=Europe/Madrid:20260421T203000
DTSTAMP:20260422T132042
CREATED:20260317T112628Z
LAST-MODIFIED:20260317T112628Z
UID:10000427-1776796200-1776803400@www.reicaz.es
SUMMARY:Jornadas sobre Derecho Foral Aragonés
DESCRIPTION:DESCARGAR PDF \nINSCRIPCIÓN
URL:https://www.reicaz.es/agenda/jornadas-sobre-derecho-foral-aragones-260421/
LOCATION:Planta 2ª\, Salón de Decanato
CATEGORIES:Formación
ATTACH;FMTTYPE=image/jpeg:https://www.reicaz.es/wp-content/uploads/2025/10/sdca200x200.jpg
END:VEVENT
BEGIN:VEVENT
DTSTART;TZID=Europe/Madrid:20260414T183000
DTEND;TZID=Europe/Madrid:20260414T203000
DTSTAMP:20260422T132042
CREATED:20260317T112403Z
LAST-MODIFIED:20260317T112403Z
UID:10000426-1776191400-1776198600@www.reicaz.es
SUMMARY:Jornadas sobre Derecho Foral Aragonés
DESCRIPTION:DESCARGAR PDF \nINSCRIPCIÓN
URL:https://www.reicaz.es/agenda/jornadas-sobre-derecho-foral-aragones-260414/
LOCATION:Planta 2ª\, Salón de Decanato
CATEGORIES:Formación
ATTACH;FMTTYPE=image/jpeg:https://www.reicaz.es/wp-content/uploads/2025/10/sdca200x200.jpg
END:VEVENT
BEGIN:VEVENT
DTSTART;TZID=Europe/Madrid:20260407T183000
DTEND;TZID=Europe/Madrid:20260407T203000
DTSTAMP:20260422T132042
CREATED:20260317T112220Z
LAST-MODIFIED:20260317T112220Z
UID:10000425-1775586600-1775593800@www.reicaz.es
SUMMARY:Jornadas sobre Derecho Foral Aragonés
DESCRIPTION:DESCARGAR PDF \nINSCRIPCIÓN
URL:https://www.reicaz.es/agenda/jornadas-sobre-derecho-foral-aragones-260407/
LOCATION:Planta 2ª\, Salón de Decanato
CATEGORIES:Formación
ATTACH;FMTTYPE=image/jpeg:https://www.reicaz.es/wp-content/uploads/2025/10/sdca200x200.jpg
END:VEVENT
BEGIN:VEVENT
DTSTART;TZID=Europe/Madrid:20260325T163000
DTEND;TZID=Europe/Madrid:20260325T193000
DTSTAMP:20260422T132042
CREATED:20260311T194758Z
LAST-MODIFIED:20260311T194758Z
UID:10000416-1774456200-1774467000@www.reicaz.es
SUMMARY:Jornada IRPF 2025: Novedades y Aspectos a Tener en Cuenta
DESCRIPTION:DESCARGAR PDF \nINSCRIPCIÓN
URL:https://www.reicaz.es/agenda/jornada-irpf-2025/
LOCATION:Planta 2ª\, Salón de Decanato
CATEGORIES:Formación
ATTACH;FMTTYPE=image/jpeg:https://www.reicaz.es/wp-content/uploads/2025/10/aedaf200x200.jpg
END:VEVENT
BEGIN:VEVENT
DTSTART;TZID=Europe/Madrid:20260123T120000
DTEND;TZID=Europe/Madrid:20260123T140000
DTSTAMP:20260422T132042
CREATED:20251218T081900Z
LAST-MODIFIED:20251218T081900Z
UID:10000347-1769169600-1769176800@www.reicaz.es
SUMMARY:Jornada sobre Delitos de Odio en Relación con el Colectivo LGTBIQ+
DESCRIPTION:DESCARGAR PDF \nINSCRIPCIÓN
URL:https://www.reicaz.es/agenda/jornada-sobre-delitos-de-odio-en-relacion-con-el-colectivo-lgtbiq/
LOCATION:Planta 2ª\, Salón de Decanato
CATEGORIES:Formación
ATTACH;FMTTYPE=image/jpeg:https://www.reicaz.es/wp-content/uploads/2025/12/dpb200x200.jpg
END:VEVENT
BEGIN:VEVENT
DTSTART;TZID=Europe/Madrid:20251203T183000
DTEND;TZID=Europe/Madrid:20251203T193000
DTSTAMP:20260422T132042
CREATED:20251027T130514Z
LAST-MODIFIED:20251027T130514Z
UID:10000243-1764786600-1764790200@www.reicaz.es
SUMMARY:Taller sobre Inteligencia Artificial (V Edición)
DESCRIPTION:DESCARGAR PDF \nINSCRIPCIÓN
URL:https://www.reicaz.es/agenda/taller-sobre-inteligencia-artificial-v-edicion-251203/
LOCATION:Planta 2ª\, Salón de Decanato
CATEGORIES:Formación
ATTACH;FMTTYPE=image/jpeg:https://www.reicaz.es/wp-content/uploads/2025/10/tecnoe200x200.jpg
END:VEVENT
BEGIN:VEVENT
DTSTART;TZID=Europe/Madrid:20251126T190000
DTEND;TZID=Europe/Madrid:20251126T203000
DTSTAMP:20260422T132042
CREATED:20251111T110010Z
LAST-MODIFIED:20251111T110010Z
UID:10000255-1764183600-1764189000@www.reicaz.es
SUMMARY:Conferencia: La Última Cena de Leonardo Da Vinci: El Testamento y la Herencia Familiar del Hijo del Notario
DESCRIPTION:DESCARGAR PDF \nINSCRIPCIÓN
URL:https://www.reicaz.es/agenda/conferencia-la-ultima-cena-de-da-vinci-251126/
LOCATION:Planta 2ª\, Salón de Decanato
CATEGORIES:Formación
ATTACH;FMTTYPE=image/jpeg:https://www.reicaz.es/wp-content/uploads/2025/11/dv200x200.jpg
END:VEVENT
BEGIN:VEVENT
DTSTART;TZID=Europe/Madrid:20251114T093000
DTEND;TZID=Europe/Madrid:20251114T103000
DTSTAMP:20260422T132042
CREATED:20251027T130157Z
LAST-MODIFIED:20251027T130157Z
UID:10000242-1763112600-1763116200@www.reicaz.es
SUMMARY:Taller sobre Inteligencia Artificial (IV Edición)
DESCRIPTION:DESCARGAR PDF \nINSCRIPCIÓN
URL:https://www.reicaz.es/agenda/taller-sobre-inteligencia-artificial-iv-edicion-251114/
LOCATION:Planta 2ª\, Salón de Decanato
CATEGORIES:Formación
ATTACH;FMTTYPE=image/jpeg:https://www.reicaz.es/wp-content/uploads/2025/10/tecnoc200x200.jpg
END:VEVENT
BEGIN:VEVENT
DTSTART;TZID=Europe/Madrid:20251107T120000
DTEND;TZID=Europe/Madrid:20251107T140000
DTSTAMP:20260422T132042
CREATED:20251103T102517Z
LAST-MODIFIED:20251103T102628Z
UID:10000244-1762516800-1762524000@www.reicaz.es
SUMMARY:Charla: Elementos Periciales Forenses a Tener en Cuenta en la Investigación de la Violencia Sexual
DESCRIPTION:DESCARGAR PDF \nINSCRIPCIÓN
URL:https://www.reicaz.es/agenda/charla-elementos-periciales-251107/
LOCATION:Planta 2ª\, Salón de Decanato
CATEGORIES:Formación
ATTACH;FMTTYPE=image/jpeg:https://www.reicaz.es/wp-content/uploads/2025/11/tof200x200.jpg
END:VEVENT
BEGIN:VEVENT
DTSTART;TZID=Europe/Madrid:20251106T183000
DTEND;TZID=Europe/Madrid:20251106T183000
DTSTAMP:20260422T132042
CREATED:20251021T124327Z
LAST-MODIFIED:20251021T125323Z
UID:10000226-1762453800-1762453800@www.reicaz.es
SUMMARY:Taller: Herramientas Prácticas de Negociación para Abogados
DESCRIPTION:DESCARGAR PDF \nINSCRIPCIÓN
URL:https://www.reicaz.es/agenda/taller-herramientas-practicas-de-negociacion-para-abogados-251106/
LOCATION:Planta 2ª\, Salón de Decanato
CATEGORIES:Formación
ATTACH;FMTTYPE=image/jpeg:https://www.reicaz.es/wp-content/uploads/2025/10/aajz200x200.jpg
END:VEVENT
BEGIN:VEVENT
DTSTART;TZID=Europe/Madrid:20251021T080000
DTEND;TZID=Europe/Madrid:20251021T170000
DTSTAMP:20260422T132042
CREATED:20251021T124814Z
LAST-MODIFIED:20251021T125202Z
UID:10000225-1761033600-1761066000@www.reicaz.es
SUMMARY:Charla: Actualidad de los Derechos Humanos en Colombia
DESCRIPTION:DESCARGAR PDF \nINSCRIPCIÓN
URL:https://www.reicaz.es/agenda/charla-actualidad-de-los-derechos-humanos-en-colombia-251111/
LOCATION:Planta 2ª\, Salón de Decanato
CATEGORIES:Formación
ATTACH;FMTTYPE=image/jpeg:https://www.reicaz.es/wp-content/uploads/2025/10/ddhh200x200.jpg
END:VEVENT
BEGIN:VEVENT
DTSTART;TZID=Europe/Madrid:20251017T120000
DTEND;TZID=Europe/Madrid:20251017T140000
DTSTAMP:20260422T132042
CREATED:20251009T082117Z
LAST-MODIFIED:20251015T035125Z
UID:10000192-1760702400-1760709600@www.reicaz.es
SUMMARY:Charla: El Facilitador Procesal como Figura Esencial en los Procesos con Personas con Discapacidad Intelectual
DESCRIPTION:DESCARGAR PDF \nINSCRIPCIÓN
URL:https://www.reicaz.es/agenda/charla-el-facilitador-procesal-como-figura-esencial-en-los-procesos-con-personas-con-discapacidad-intelectual/
LOCATION:Planta 2ª\, Salón de Decanato
CATEGORIES:Formación
ATTACH;FMTTYPE=image/jpeg:https://www.reicaz.es/wp-content/uploads/2025/10/tof2200x200.jpg
END:VEVENT
BEGIN:VEVENT
DTSTART;TZID=Europe/Madrid:20251016T180000
DTEND;TZID=Europe/Madrid:20251016T193000
DTSTAMP:20260422T132042
CREATED:20251020T122520Z
LAST-MODIFIED:20251020T122620Z
UID:10000222-1760637600-1760643000@www.reicaz.es
SUMMARY:Examen Acceso al Turno de Oficio
DESCRIPTION:Organiza Elena Sanz
URL:https://www.reicaz.es/agenda/examen-acceso-al-turno-de-oficio-251016/
LOCATION:Planta 2ª\, Salón de Decanato
CATEGORIES:Junta Gobierno
END:VEVENT
BEGIN:VEVENT
DTSTART;TZID=Europe/Madrid:20250918T180000
DTEND;TZID=Europe/Madrid:20250918T180000
DTSTAMP:20260422T132042
CREATED:20250905T110337Z
LAST-MODIFIED:20251016T123704Z
UID:10000184-1758218400-1758218400@www.reicaz.es
SUMMARY:Taller: Experiencias Prácticas sobre los Riesgos Derivados de las Operaciones M & A: Seguros de Manifestaciones y Garantías
DESCRIPTION:DESCARGAR PDF \nINSCRIPCIÓN
URL:https://www.reicaz.es/agenda/taller-experiencias-practicas-sobre-los-riesgos-derivados-de-las-operaciones-m-a/
LOCATION:Planta 2ª\, Salón de Decanato
CATEGORIES:Formación
END:VEVENT
BEGIN:VEVENT
DTSTART;TZID=Europe/Madrid:20250704T100000
DTEND;TZID=Europe/Madrid:20250704T120000
DTSTAMP:20260422T132042
CREATED:20250624T111307Z
LAST-MODIFIED:20250624T111307Z
UID:10000181-1751623200-1751630400@www.reicaz.es
SUMMARY:Charla: Delito de Trata de Seres Humanos. Detección de Víctimas de Trata y Aplicación de la Excusa Absolutoria del Artículo 177 Bis del Código Penal
DESCRIPTION:DESCARGAR PDF \nINSCRIPCIÓN
URL:https://www.reicaz.es/agenda/charla-delito-de-trata-de-seres-humanos-deteccion-de-victimas-de-trata-y-aplicacion-de-la-excusa-absolutoria-del-articulo-177-bis-del-codigo-penal/
LOCATION:Planta 2ª\, Salón de Decanato
END:VEVENT
BEGIN:VEVENT
DTSTART;TZID=Europe/Madrid:20250624T173000
DTEND;TZID=Europe/Madrid:20250626T203000
DTSTAMP:20260422T132042
CREATED:20250325T104714Z
LAST-MODIFIED:20250325T104714Z
UID:10000140-1750786200-1750969800@www.reicaz.es
SUMMARY:Curso de Especialización en Derecho de Extranjería
DESCRIPTION:DESCARGAR PDF
URL:https://www.reicaz.es/agenda/curso-de-especializacion-en-derecho-de-extranjeria-18/
LOCATION:Planta 2ª\, Salón de Decanato
END:VEVENT
BEGIN:VEVENT
DTSTART;TZID=Europe/Madrid:20250623T170000
DTEND;TZID=Europe/Madrid:20250623T203000
DTSTAMP:20260422T132042
CREATED:20250325T110700Z
LAST-MODIFIED:20250325T110700Z
UID:10000147-1750698000-1750710600@www.reicaz.es
SUMMARY:Curso de Especialización en Defensa de las Víctimas de Violencia Doméstica y de Género
DESCRIPTION:DESCARGAR PDF
URL:https://www.reicaz.es/agenda/curso-de-especializacion-en-defensa-de-las-victimas-de-violencia-domestica-y-de-genero-14/
LOCATION:Planta 2ª\, Salón de Decanato
END:VEVENT
BEGIN:VEVENT
DTSTART;TZID=Europe/Madrid:20250619T173000
DTEND;TZID=Europe/Madrid:20250619T203000
DTSTAMP:20260422T132042
CREATED:20250325T104333Z
LAST-MODIFIED:20250325T104352Z
UID:10000139-1750354200-1750365000@www.reicaz.es
SUMMARY:Curso de Especialización en Derecho de Extranjería
DESCRIPTION:DESCARGAR PDF
URL:https://www.reicaz.es/agenda/curso-de-especializacion-en-derecho-de-extranjeria-17/
LOCATION:Planta 2ª\, Salón de Decanato
END:VEVENT
BEGIN:VEVENT
DTSTART;TZID=Europe/Madrid:20250618T170000
DTEND;TZID=Europe/Madrid:20250618T203000
DTSTAMP:20260422T132042
CREATED:20250325T110509Z
LAST-MODIFIED:20250325T110509Z
UID:10000146-1750266000-1750278600@www.reicaz.es
SUMMARY:Curso de Especialización en Defensa de las Víctimas de Violencia Doméstica y de Género
DESCRIPTION:DESCARGAR PDF
URL:https://www.reicaz.es/agenda/curso-de-especializacion-en-defensa-de-las-victimas-de-violencia-domestica-y-de-genero-13/
LOCATION:Planta 2ª\, Salón de Decanato
END:VEVENT
BEGIN:VEVENT
DTSTART;TZID=Europe/Madrid:20250617T173000
DTEND;TZID=Europe/Madrid:20250617T203000
DTSTAMP:20260422T132042
CREATED:20250325T103512Z
LAST-MODIFIED:20250325T103512Z
UID:10000138-1750181400-1750192200@www.reicaz.es
SUMMARY:Curso de Especialización en Derecho de Extranjería
DESCRIPTION:DESCARGAR PDF
URL:https://www.reicaz.es/agenda/curso-de-especializacion-en-derecho-de-extranjeria-16/
LOCATION:Planta 2ª\, Salón de Decanato
END:VEVENT
BEGIN:VEVENT
DTSTART;TZID=Europe/Madrid:20250616T170000
DTEND;TZID=Europe/Madrid:20250616T203000
DTSTAMP:20260422T132042
CREATED:20250325T110202Z
LAST-MODIFIED:20250325T110202Z
UID:10000145-1750093200-1750105800@www.reicaz.es
SUMMARY:Curso de Especialización en Defensa de las Víctimas de Violencia Doméstica y de Género
DESCRIPTION:DESCARGAR PDF
URL:https://www.reicaz.es/agenda/curso-de-especializacion-en-defensa-de-las-victimas-de-violencia-domestica-y-de-genero-12/
LOCATION:Planta 2ª\, Salón de Decanato
END:VEVENT
BEGIN:VEVENT
DTSTART;TZID=Europe/Madrid:20250612T173000
DTEND;TZID=Europe/Madrid:20250612T203000
DTSTAMP:20260422T132042
CREATED:20250325T103340Z
LAST-MODIFIED:20250325T103340Z
UID:10000137-1749749400-1749760200@www.reicaz.es
SUMMARY:Curso de Especialización en Derecho de Extranjería
DESCRIPTION:DESCARGAR PDF
URL:https://www.reicaz.es/agenda/curso-de-especializacion-en-derecho-de-extranjeria-15/
LOCATION:Planta 2ª\, Salón de Decanato
END:VEVENT
BEGIN:VEVENT
DTSTART;TZID=Europe/Madrid:20250611T170000
DTEND;TZID=Europe/Madrid:20250611T203000
DTSTAMP:20260422T132042
CREATED:20250325T110010Z
LAST-MODIFIED:20250325T110010Z
UID:10000144-1749661200-1749673800@www.reicaz.es
SUMMARY:Curso de Especialización en Defensa de las Víctimas de Violencia Doméstica y de Género
DESCRIPTION:DESCARGAR PDF
URL:https://www.reicaz.es/agenda/curso-de-especializacion-en-defensa-de-las-victimas-de-violencia-domestica-y-de-genero-11/
LOCATION:Planta 2ª\, Salón de Decanato
END:VEVENT
BEGIN:VEVENT
DTSTART;TZID=Europe/Madrid:20250610T173000
DTEND;TZID=Europe/Madrid:20250610T203000
DTSTAMP:20260422T132042
CREATED:20250325T103043Z
LAST-MODIFIED:20250325T103043Z
UID:10000136-1749576600-1749587400@www.reicaz.es
SUMMARY:Curso de Especialización en Derecho de Extranjería
DESCRIPTION:DESCARGAR PDF
URL:https://www.reicaz.es/agenda/curso-de-especializacion-en-derecho-de-extranjeria-14/
LOCATION:Planta 2ª\, Salón de Decanato
END:VEVENT
BEGIN:VEVENT
DTSTART;TZID=Europe/Madrid:20250609T170000
DTEND;TZID=Europe/Madrid:20250609T203000
DTSTAMP:20260422T132042
CREATED:20250325T105600Z
LAST-MODIFIED:20250325T105600Z
UID:10000142-1749488400-1749501000@www.reicaz.es
SUMMARY:Curso de Especialización en Defensa de las Víctimas de Violencia Doméstica y de Género
DESCRIPTION:DESCARGAR PDF
URL:https://www.reicaz.es/agenda/curso-de-especializacion-en-defensa-de-las-victimas-de-violencia-domestica-y-de-genero-9/
LOCATION:Planta 2ª\, Salón de Decanato
END:VEVENT
BEGIN:VEVENT
DTSTART;TZID=Europe/Madrid:20250605T173000
DTEND;TZID=Europe/Madrid:20250605T203000
DTSTAMP:20260422T132042
CREATED:20250325T102903Z
LAST-MODIFIED:20250325T102903Z
UID:10000135-1749144600-1749155400@www.reicaz.es
SUMMARY:Curso de Especialización en Derecho de Extranjería
DESCRIPTION:DESCARGAR PDF
URL:https://www.reicaz.es/agenda/curso-de-especializacion-en-derecho-de-extranjeria-13/
LOCATION:Planta 2ª\, Salón de Decanato
END:VEVENT
BEGIN:VEVENT
DTSTART;TZID=Europe/Madrid:20250604T170000
DTEND;TZID=Europe/Madrid:20250604T203000
DTSTAMP:20260422T132042
CREATED:20250325T105903Z
LAST-MODIFIED:20250325T105903Z
UID:10000143-1749056400-1749069000@www.reicaz.es
SUMMARY:Curso de Especialización en Defensa de las Víctimas de Violencia Doméstica y de Género
DESCRIPTION:DESCARGAR PDF
URL:https://www.reicaz.es/agenda/curso-de-especializacion-en-defensa-de-las-victimas-de-violencia-domestica-y-de-genero-10/
LOCATION:Planta 2ª\, Salón de Decanato
END:VEVENT
BEGIN:VEVENT
DTSTART;TZID=Europe/Madrid:20250603T173000
DTEND;TZID=Europe/Madrid:20250603T203000
DTSTAMP:20260422T132042
CREATED:20250325T102714Z
LAST-MODIFIED:20250325T102714Z
UID:10000134-1748971800-1748982600@www.reicaz.es
SUMMARY:Curso de Especialización en Derecho de Extranjería
DESCRIPTION:DESCARGAR PDF
URL:https://www.reicaz.es/agenda/curso-de-especializacion-en-derecho-de-extranjeria-12/
LOCATION:Planta 2ª\, Salón de Decanato
END:VEVENT
BEGIN:VEVENT
DTSTART;TZID=Europe/Madrid:20250602T170000
DTEND;TZID=Europe/Madrid:20250602T203000
DTSTAMP:20260422T132042
CREATED:20250325T105244Z
LAST-MODIFIED:20250325T105504Z
UID:10000141-1748883600-1748896200@www.reicaz.es
SUMMARY:Curso de Especialización en Defensa de las Víctimas de Violencia Doméstica y de Género
DESCRIPTION:DESCARGAR PDF
URL:https://www.reicaz.es/agenda/curso-de-especializacion-en-defensa-de-las-victimas-de-violencia-domestica-y-de-genero-8/
LOCATION:Planta 2ª\, Salón de Decanato
END:VEVENT
BEGIN:VEVENT
DTSTART;TZID=UTC:20241009T173000
DTEND;TZID=UTC:20241009T203000
DTSTAMP:20260422T132042
CREATED:20240710T064842Z
LAST-MODIFIED:20240710T064915Z
UID:10000082-1728495000-1728505800@www.reicaz.es
SUMMARY:Curso de Especialización en Derecho Penitenciario
DESCRIPTION:DESCARGAR PDF
URL:https://www.reicaz.es/agenda/curso-de-especializacion-en-derecho-penitenciario-10/
LOCATION:Planta 2ª\, Salón de Decanato
END:VEVENT
END:VCALENDAR