BEGIN:VCALENDAR
VERSION:2.0
PRODID:-//Real e Ilustre Colegio de Abogados de Zaragoza - ECPv6.15.8//NONSGML v1.0//EN
CALSCALE:GREGORIAN
METHOD:PUBLISH
X-ORIGINAL-URL:https://www.reicaz.es
X-WR-CALDESC:Eventos para Real e Ilustre Colegio de Abogados de Zaragoza
REFRESH-INTERVAL;VALUE=DURATION:PT1H
X-Robots-Tag:noindex
X-PUBLISHED-TTL:PT1H
BEGIN:VTIMEZONE
TZID:Europe/Paris
BEGIN:DAYLIGHT
TZOFFSETFROM:+0100
TZOFFSETTO:+0200
TZNAME:CEST
DTSTART:20250330T010000
END:DAYLIGHT
BEGIN:STANDARD
TZOFFSETFROM:+0200
TZOFFSETTO:+0100
TZNAME:CET
DTSTART:20251026T010000
END:STANDARD
BEGIN:DAYLIGHT
TZOFFSETFROM:+0100
TZOFFSETTO:+0200
TZNAME:CEST
DTSTART:20260329T010000
END:DAYLIGHT
BEGIN:STANDARD
TZOFFSETFROM:+0200
TZOFFSETTO:+0100
TZNAME:CET
DTSTART:20261025T010000
END:STANDARD
BEGIN:DAYLIGHT
TZOFFSETFROM:+0100
TZOFFSETTO:+0200
TZNAME:CEST
DTSTART:20270328T010000
END:DAYLIGHT
BEGIN:STANDARD
TZOFFSETFROM:+0200
TZOFFSETTO:+0100
TZNAME:CET
DTSTART:20271031T010000
END:STANDARD
END:VTIMEZONE
BEGIN:VTIMEZONE
TZID:Europe/Madrid
BEGIN:DAYLIGHT
TZOFFSETFROM:+0100
TZOFFSETTO:+0200
TZNAME:CEST
DTSTART:20250330T010000
END:DAYLIGHT
BEGIN:STANDARD
TZOFFSETFROM:+0200
TZOFFSETTO:+0100
TZNAME:CET
DTSTART:20251026T010000
END:STANDARD
BEGIN:DAYLIGHT
TZOFFSETFROM:+0100
TZOFFSETTO:+0200
TZNAME:CEST
DTSTART:20260329T010000
END:DAYLIGHT
BEGIN:STANDARD
TZOFFSETFROM:+0200
TZOFFSETTO:+0100
TZNAME:CET
DTSTART:20261025T010000
END:STANDARD
BEGIN:DAYLIGHT
TZOFFSETFROM:+0100
TZOFFSETTO:+0200
TZNAME:CEST
DTSTART:20270328T010000
END:DAYLIGHT
BEGIN:STANDARD
TZOFFSETFROM:+0200
TZOFFSETTO:+0100
TZNAME:CET
DTSTART:20271031T010000
END:STANDARD
END:VTIMEZONE
BEGIN:VEVENT
DTSTART;TZID=Europe/Paris:20260320T100000
DTEND;TZID=Europe/Paris:20260320T110000
DTSTAMP:20260422T104028
CREATED:20260319T100032Z
LAST-MODIFIED:20260421T234532Z
UID:10000429-1774000800-1774004400@www.reicaz.es
SUMMARY:ACTO DE DESPEDIDA A LOS ALUMNOS DE DERECHO DE LA UNIZAR Y USJ  QUE HAN REALIZADO PRÁCTICAS DERECHO EN DIFERENTES UNIDADES DE LA GUARDIA CIVIL DE ARAGÓN
DESCRIPTION:
URL:https://www.reicaz.es/agenda/acto-de-despedida-a-los-alumnos-de-derecho-de-la-unizar-y-usj-que-han-realizado-practicas-derecho-en-diferentes-unidades-de-la-guardia-civil-de-aragon/
LOCATION:Delegación de Gobierno
CATEGORIES:Junta Gobierno
END:VEVENT
BEGIN:VEVENT
DTSTART;TZID=Europe/Paris:20260324T130000
DTEND;TZID=Europe/Paris:20260324T143000
DTSTAMP:20260422T104028
CREATED:20260309T154537Z
LAST-MODIFIED:20260421T234532Z
UID:10000406-1774357200-1774362600@www.reicaz.es
SUMMARY:Reunión Consejo Sectorial de Igualdad
DESCRIPTION:
URL:https://www.reicaz.es/agenda/reunion-consejo-sectorial-de-igualdad/
LOCATION:Salón Recepciones Ayuntamiento
CATEGORIES:Junta Gobierno
END:VEVENT
BEGIN:VEVENT
DTSTART;TZID=Europe/Paris:20260325T093000
DTEND;TZID=Europe/Paris:20260325T123000
DTSTAMP:20260422T104028
CREATED:20260325T114528Z
LAST-MODIFIED:20260421T234532Z
UID:10000430-1774431000-1774441800@www.reicaz.es
SUMMARY:Comisión Turno de Oficio
DESCRIPTION:
URL:https://www.reicaz.es/agenda/comision-turno-de-oficio-6/
LOCATION:REICAZ
CATEGORIES:Junta Gobierno
END:VEVENT
BEGIN:VEVENT
DTSTART;TZID=Europe/Paris:20260325T113000
DTEND;TZID=Europe/Paris:20260325T130000
DTSTAMP:20260422T104028
CREATED:20260312T080038Z
LAST-MODIFIED:20260422T080243Z
UID:10000418-1774438200-1774443600@www.reicaz.es
SUMMARY:Festividad de la Universidad de Zaragoza
DESCRIPTION:
URL:https://www.reicaz.es/agenda/festividad-de-la-universidad-de-zaragoza/
LOCATION:Edificio Paraninfo
CATEGORIES:Decano
END:VEVENT
BEGIN:VEVENT
DTSTART;TZID=Europe/Madrid:20260325T163000
DTEND;TZID=Europe/Madrid:20260325T193000
DTSTAMP:20260422T104028
CREATED:20260311T194758Z
LAST-MODIFIED:20260311T194758Z
UID:10000416-1774456200-1774467000@www.reicaz.es
SUMMARY:Jornada IRPF 2025: Novedades y Aspectos a Tener en Cuenta
DESCRIPTION:DESCARGAR PDF \nINSCRIPCIÓN
URL:https://www.reicaz.es/agenda/jornada-irpf-2025/
LOCATION:Planta 2ª\, Salón de Decanato
CATEGORIES:Formación
ATTACH;FMTTYPE=image/jpeg:https://www.reicaz.es/wp-content/uploads/2025/10/aedaf200x200.jpg
END:VEVENT
BEGIN:VEVENT
DTSTART;TZID=Europe/Paris:20260326T093000
DTEND;TZID=Europe/Paris:20260326T133000
DTSTAMP:20260422T104028
CREATED:20260309T164604Z
LAST-MODIFIED:20260421T234532Z
UID:10000414-1774517400-1774531800@www.reicaz.es
SUMMARY:Comisión de Honorarios
DESCRIPTION:
URL:https://www.reicaz.es/agenda/comision-de-honorarios/
LOCATION:Sala de Juntas
CATEGORIES:Junta Gobierno
END:VEVENT
BEGIN:VEVENT
DTSTART;TZID=Europe/Paris:20260326T170000
DTEND;TZID=Europe/Paris:20260326T200000
DTSTAMP:20260422T104028
CREATED:20260309T163038Z
LAST-MODIFIED:20260422T080243Z
UID:10000413-1774544400-1774555200@www.reicaz.es
SUMMARY:Copia: Presentación del Libro Blanco sobre inteligencia artificial y abogacía en ICAV
DESCRIPTION:
URL:https://www.reicaz.es/agenda/copia-presentacion-del-libro-blanco-sobre-inteligencia-artificial-y-abogacia-en-icav/
LOCATION:Salón de Actos del Colegio de Abogados de Valencia
CATEGORIES:Decano
END:VEVENT
BEGIN:VEVENT
DTSTART;TZID=Europe/Madrid:20260326T180000
DTEND;TZID=Europe/Madrid:20260326T200000
DTSTAMP:20260422T104028
CREATED:20260311T194245Z
LAST-MODIFIED:20260316T094110Z
UID:10000415-1774548000-1774555200@www.reicaz.es
SUMMARY:Charla One-Person Army: O Cómo Hacer que las Herramientas y la IA Trabajen para Ti
DESCRIPTION:INSCRIPCIÓN \nDESCARGAR PDF
URL:https://www.reicaz.es/agenda/charla-one-person-army/
LOCATION:Planta Baja\, Salón de Actos Carlos Carnicer
CATEGORIES:Formación
ATTACH;FMTTYPE=image/jpeg:https://www.reicaz.es/wp-content/uploads/2026/03/ai200x200.jpg
END:VEVENT
BEGIN:VEVENT
DTSTART;TZID=Europe/Paris:20260327T093000
DTEND;TZID=Europe/Paris:20260327T120000
DTSTAMP:20260422T104028
CREATED:20260327T083031Z
LAST-MODIFIED:20260421T234532Z
UID:10000432-1774603800-1774612800@www.reicaz.es
SUMMARY:Comisión Deontología
DESCRIPTION:
URL:https://www.reicaz.es/agenda/comision-deontologia-3/
LOCATION:Planta 3ª REICAZ
CATEGORIES:Junta Gobierno
END:VEVENT
BEGIN:VEVENT
DTSTART;TZID=Europe/Paris:20260327T100000
DTEND;TZID=Europe/Paris:20260327T113000
DTSTAMP:20260422T104028
CREATED:20260325T114528Z
LAST-MODIFIED:20260421T234532Z
UID:10000431-1774605600-1774611000@www.reicaz.es
SUMMARY:Reunión con Pte. Defensa de la Competencia
DESCRIPTION:
URL:https://www.reicaz.es/agenda/reunion-con-pte-defensa-de-la-competencia/
LOCATION:Sala de Juntas
CATEGORIES:Junta Gobierno
END:VEVENT
BEGIN:VEVENT
DTSTART;TZID=Europe/Paris:20260327T120000
DTEND;TZID=Europe/Paris:20260327T133000
DTSTAMP:20260422T104028
CREATED:20260312T080038Z
LAST-MODIFIED:20260422T080243Z
UID:10000419-1774612800-1774618200@www.reicaz.es
SUMMARY:Comisión Permanente CGAE en Valencia
DESCRIPTION:
URL:https://www.reicaz.es/agenda/comision-permanente-cgae-en-valencia/
LOCATION:ICAV
CATEGORIES:Decano
END:VEVENT
BEGIN:VEVENT
DTSTART;TZID=Europe/Paris:20260331T103000
DTEND;TZID=Europe/Paris:20260331T130000
DTSTAMP:20260422T104028
CREATED:20260203T093055Z
LAST-MODIFIED:20260421T234533Z
UID:10000371-1774953000-1774962000@www.reicaz.es
SUMMARY:Junta de Gobierno
DESCRIPTION:
URL:https://www.reicaz.es/agenda/junta-de-gobierno-4/
LOCATION:Sala de JG
CATEGORIES:Junta Gobierno
END:VEVENT
BEGIN:VEVENT
DTSTART;TZID=Europe/Paris:20260331T130000
DTEND;TZID=Europe/Paris:20260331T140000
DTSTAMP:20260422T104028
CREATED:20260203T093055Z
LAST-MODIFIED:20260421T234533Z
UID:10000372-1774962000-1774965600@www.reicaz.es
SUMMARY:Junta General Cuentas
DESCRIPTION:
URL:https://www.reicaz.es/agenda/junta-general-cuentas/
LOCATION:Salón Carnicer
CATEGORIES:Junta Gobierno
END:VEVENT
BEGIN:VEVENT
DTSTART;TZID=Europe/Madrid:20260407T183000
DTEND;TZID=Europe/Madrid:20260407T203000
DTSTAMP:20260422T104028
CREATED:20260317T112220Z
LAST-MODIFIED:20260317T112220Z
UID:10000425-1775586600-1775593800@www.reicaz.es
SUMMARY:Jornadas sobre Derecho Foral Aragonés
DESCRIPTION:DESCARGAR PDF \nINSCRIPCIÓN
URL:https://www.reicaz.es/agenda/jornadas-sobre-derecho-foral-aragones-260407/
LOCATION:Planta 2ª\, Salón de Decanato
CATEGORIES:Formación
ATTACH;FMTTYPE=image/jpeg:https://www.reicaz.es/wp-content/uploads/2025/10/sdca200x200.jpg
END:VEVENT
BEGIN:VEVENT
DTSTART;TZID=Europe/Paris:20260408T183000
DTEND;TZID=Europe/Paris:20260408T210000
DTSTAMP:20260422T104028
CREATED:20260204T113033Z
LAST-MODIFIED:20260422T080244Z
UID:10000381-1775673000-1775682000@www.reicaz.es
SUMMARY:Reunión secciones
DESCRIPTION:
URL:https://www.reicaz.es/agenda/reunion-secciones/
LOCATION:Salón Carlos Carnicer
CATEGORIES:Decano
END:VEVENT
BEGIN:VEVENT
DTSTART;TZID=Europe/Paris:20260410T100000
DTEND;TZID=Europe/Paris:20260410T143000
DTSTAMP:20260422T104028
CREATED:20251113T120514Z
LAST-MODIFIED:20260422T080244Z
UID:10000290-1775815200-1775831400@www.reicaz.es
SUMMARY:Pleno CGAE
DESCRIPTION:
URL:https://www.reicaz.es/agenda/copia-pleno-cgae-3/
LOCATION:Madrid
CATEGORIES:Decano
END:VEVENT
BEGIN:VEVENT
DTSTART;TZID=Europe/Paris:20260414T120000
DTEND;TZID=Europe/Paris:20260414T140000
DTSTAMP:20260422T104028
CREATED:20260312T080038Z
LAST-MODIFIED:20260422T080244Z
UID:10000420-1776168000-1776175200@www.reicaz.es
SUMMARY:Mesa redonda The Wave
DESCRIPTION:
URL:https://www.reicaz.es/agenda/mesa-redonda-the-wave/
LOCATION:The Wave
CATEGORIES:Decano
END:VEVENT
BEGIN:VEVENT
DTSTART;TZID=Europe/Madrid:20260414T183000
DTEND;TZID=Europe/Madrid:20260414T203000
DTSTAMP:20260422T104028
CREATED:20260317T112403Z
LAST-MODIFIED:20260317T112403Z
UID:10000426-1776191400-1776198600@www.reicaz.es
SUMMARY:Jornadas sobre Derecho Foral Aragonés
DESCRIPTION:DESCARGAR PDF \nINSCRIPCIÓN
URL:https://www.reicaz.es/agenda/jornadas-sobre-derecho-foral-aragones-260414/
LOCATION:Planta 2ª\, Salón de Decanato
CATEGORIES:Formación
ATTACH;FMTTYPE=image/jpeg:https://www.reicaz.es/wp-content/uploads/2025/10/sdca200x200.jpg
END:VEVENT
BEGIN:VEVENT
DTSTART;TZID=Europe/Paris:20260415T170000
DTEND;TZID=Europe/Paris:20260415T183000
DTSTAMP:20260422T104028
CREATED:20260312T080038Z
LAST-MODIFIED:20260422T080244Z
UID:10000421-1776272400-1776277800@www.reicaz.es
SUMMARY:Evento CGPJ
DESCRIPTION:
URL:https://www.reicaz.es/agenda/evento-cgpj/
LOCATION:Espacio Bertelsmann\, Madrid
CATEGORIES:Decano
END:VEVENT
BEGIN:VEVENT
DTSTART;TZID=Europe/Paris:20260415T173000
DTEND;TZID=Europe/Paris:20260415T200000
DTSTAMP:20260422T104028
CREATED:20260316T200035Z
LAST-MODIFIED:20260421T234533Z
UID:10000424-1776274200-1776283200@www.reicaz.es
SUMMARY:Comisión de Formación
DESCRIPTION:
URL:https://www.reicaz.es/agenda/comision-de-formacion/
LOCATION:Planta 4ª REICAZ
CATEGORIES:Junta Gobierno
END:VEVENT
BEGIN:VEVENT
DTSTART;TZID=Europe/Paris:20260417T090000
DTEND;TZID=Europe/Paris:20260417T093000
DTSTAMP:20260422T104028
CREATED:20260415T110033Z
LAST-MODIFIED:20260421T234533Z
UID:10000460-1776416400-1776418200@www.reicaz.es
SUMMARY:Comisión Turno Oficio
DESCRIPTION:
URL:https://www.reicaz.es/agenda/comision-turno-oficio-2/
LOCATION:REICAZ
CATEGORIES:Junta Gobierno
END:VEVENT
BEGIN:VEVENT
DTSTART;TZID=Europe/Paris:20260417T100000
DTEND;TZID=Europe/Paris:20260417T140000
DTSTAMP:20260422T104028
CREATED:20260312T080038Z
LAST-MODIFIED:20260422T080257Z
UID:10000422-1776420000-1776434400@www.reicaz.es
SUMMARY:Jornada Competencia COPA
DESCRIPTION:
URL:https://www.reicaz.es/agenda/jornada-competencia-copa/
LOCATION:Salón Decanato
CATEGORIES:Decano
END:VEVENT
BEGIN:VEVENT
DTSTART;TZID=Europe/Madrid:20260420T173000
DTEND;TZID=Europe/Madrid:20260420T203000
DTSTAMP:20260422T104028
CREATED:20260407T113131Z
LAST-MODIFIED:20260407T113131Z
UID:10000433-1776706200-1776717000@www.reicaz.es
SUMMARY:Curso de Especialización en Jurisdicción de Menores
DESCRIPTION:DESCARGAR PDF \nINSCRIPCIÓN
URL:https://www.reicaz.es/agenda/curso-jurisdiccion-de-menores-260420/
LOCATION:Planta 4ª\, Aula 5
CATEGORIES:Formación
ATTACH;FMTTYPE=image/jpeg:https://www.reicaz.es/wp-content/uploads/2026/04/cjm200x200.jpg
END:VEVENT
BEGIN:VEVENT
DTSTART;TZID=Europe/Madrid:20260421T173000
DTEND;TZID=Europe/Madrid:20260421T203000
DTSTAMP:20260422T104028
CREATED:20260407T113544Z
LAST-MODIFIED:20260407T113544Z
UID:10000434-1776792600-1776803400@www.reicaz.es
SUMMARY:Curso de Especialización en Jurisdicción de Menores
DESCRIPTION:DESCARGAR PDF \nINSCRIPCIÓN
URL:https://www.reicaz.es/agenda/curso-jurisdiccion-de-menores-260421/
LOCATION:Planta 4ª\, Aula 5
CATEGORIES:Formación
ATTACH;FMTTYPE=image/jpeg:https://www.reicaz.es/wp-content/uploads/2026/04/cjm200x200.jpg
END:VEVENT
BEGIN:VEVENT
DTSTART;TZID=Europe/Madrid:20260421T183000
DTEND;TZID=Europe/Madrid:20260421T203000
DTSTAMP:20260422T104028
CREATED:20260317T112628Z
LAST-MODIFIED:20260317T112628Z
UID:10000427-1776796200-1776803400@www.reicaz.es
SUMMARY:Jornadas sobre Derecho Foral Aragonés
DESCRIPTION:DESCARGAR PDF \nINSCRIPCIÓN
URL:https://www.reicaz.es/agenda/jornadas-sobre-derecho-foral-aragones-260421/
LOCATION:Planta 2ª\, Salón de Decanato
CATEGORIES:Formación
ATTACH;FMTTYPE=image/jpeg:https://www.reicaz.es/wp-content/uploads/2025/10/sdca200x200.jpg
END:VEVENT
BEGIN:VEVENT
DTSTART;TZID=Europe/Madrid:20260427T173000
DTEND;TZID=Europe/Madrid:20260427T203000
DTSTAMP:20260422T104028
CREATED:20260407T113700Z
LAST-MODIFIED:20260407T113700Z
UID:10000435-1777311000-1777321800@www.reicaz.es
SUMMARY:Curso de Especialización en Jurisdicción de Menores
DESCRIPTION:DESCARGAR PDF \nINSCRIPCIÓN
URL:https://www.reicaz.es/agenda/curso-jurisdiccion-de-menores-260427/
LOCATION:Planta 4ª\, Aula 5
CATEGORIES:Formación
ATTACH;FMTTYPE=image/jpeg:https://www.reicaz.es/wp-content/uploads/2026/04/cjm200x200.jpg
END:VEVENT
BEGIN:VEVENT
DTSTART;TZID=Europe/Madrid:20260429T173000
DTEND;TZID=Europe/Madrid:20260429T203000
DTSTAMP:20260422T104028
CREATED:20260407T113803Z
LAST-MODIFIED:20260407T114058Z
UID:10000436-1777483800-1777494600@www.reicaz.es
SUMMARY:Curso de Especialización en Jurisdicción de Menores
DESCRIPTION:DESCARGAR PDF \nINSCRIPCIÓN
URL:https://www.reicaz.es/agenda/curso-jurisdiccion-de-menores-260429/
LOCATION:Planta 4ª\, Aula 5
CATEGORIES:Formación
ATTACH;FMTTYPE=image/jpeg:https://www.reicaz.es/wp-content/uploads/2026/04/cjm200x200.jpg
END:VEVENT
BEGIN:VEVENT
DTSTART;TZID=Europe/Paris:20260429T183000
DTEND;TZID=Europe/Paris:20260429T210000
DTSTAMP:20260422T104028
CREATED:20260203T101539Z
LAST-MODIFIED:20260421T234533Z
UID:10000374-1777487400-1777496400@www.reicaz.es
SUMMARY:Junta de Gobierno
DESCRIPTION:
URL:https://www.reicaz.es/agenda/junta-de-gobierno-5/
CATEGORIES:Junta Gobierno
END:VEVENT
BEGIN:VEVENT
DTSTART;TZID=Europe/Madrid:20260504T173000
DTEND;TZID=Europe/Madrid:20260504T203000
DTSTAMP:20260422T104028
CREATED:20260407T114231Z
LAST-MODIFIED:20260407T114231Z
UID:10000437-1777915800-1777926600@www.reicaz.es
SUMMARY:Curso de Especialización en Jurisdicción de Menores
DESCRIPTION:DESCARGAR PDF \nINSCRIPCIÓN
URL:https://www.reicaz.es/agenda/curso-jurisdiccion-de-menores-260504/
LOCATION:Planta 4ª\, Aula 5
CATEGORIES:Formación
ATTACH;FMTTYPE=image/jpeg:https://www.reicaz.es/wp-content/uploads/2026/04/cjm200x200.jpg
END:VEVENT
BEGIN:VEVENT
DTSTART;TZID=Europe/Madrid:20260506T173000
DTEND;TZID=Europe/Madrid:20260506T203000
DTSTAMP:20260422T104028
CREATED:20260407T114348Z
LAST-MODIFIED:20260407T114348Z
UID:10000438-1778088600-1778099400@www.reicaz.es
SUMMARY:Curso de Especialización en Jurisdicción de Menores
DESCRIPTION:DESCARGAR PDF \nINSCRIPCIÓN
URL:https://www.reicaz.es/agenda/curso-jurisdiccion-de-menores-260506/
LOCATION:Planta 4ª\, Aula 5
CATEGORIES:Formación
ATTACH;FMTTYPE=image/jpeg:https://www.reicaz.es/wp-content/uploads/2026/04/cjm200x200.jpg
END:VEVENT
END:VCALENDAR