BEGIN:VCALENDAR
VERSION:2.0
PRODID:-//Real e Ilustre Colegio de Abogados de Zaragoza - ECPv6.15.8//NONSGML v1.0//EN
CALSCALE:GREGORIAN
METHOD:PUBLISH
X-WR-CALNAME:Real e Ilustre Colegio de Abogados de Zaragoza
X-ORIGINAL-URL:https://www.reicaz.es
X-WR-CALDESC:Eventos para Real e Ilustre Colegio de Abogados de Zaragoza
REFRESH-INTERVAL;VALUE=DURATION:PT1H
X-Robots-Tag:noindex
X-PUBLISHED-TTL:PT1H
BEGIN:VTIMEZONE
TZID:Europe/Paris
BEGIN:DAYLIGHT
TZOFFSETFROM:+0100
TZOFFSETTO:+0200
TZNAME:CEST
DTSTART:20250330T010000
END:DAYLIGHT
BEGIN:STANDARD
TZOFFSETFROM:+0200
TZOFFSETTO:+0100
TZNAME:CET
DTSTART:20251026T010000
END:STANDARD
BEGIN:DAYLIGHT
TZOFFSETFROM:+0100
TZOFFSETTO:+0200
TZNAME:CEST
DTSTART:20260329T010000
END:DAYLIGHT
BEGIN:STANDARD
TZOFFSETFROM:+0200
TZOFFSETTO:+0100
TZNAME:CET
DTSTART:20261025T010000
END:STANDARD
BEGIN:DAYLIGHT
TZOFFSETFROM:+0100
TZOFFSETTO:+0200
TZNAME:CEST
DTSTART:20270328T010000
END:DAYLIGHT
BEGIN:STANDARD
TZOFFSETFROM:+0200
TZOFFSETTO:+0100
TZNAME:CET
DTSTART:20271031T010000
END:STANDARD
END:VTIMEZONE
BEGIN:VTIMEZONE
TZID:Europe/Madrid
BEGIN:DAYLIGHT
TZOFFSETFROM:+0100
TZOFFSETTO:+0200
TZNAME:CEST
DTSTART:20250330T010000
END:DAYLIGHT
BEGIN:STANDARD
TZOFFSETFROM:+0200
TZOFFSETTO:+0100
TZNAME:CET
DTSTART:20251026T010000
END:STANDARD
BEGIN:DAYLIGHT
TZOFFSETFROM:+0100
TZOFFSETTO:+0200
TZNAME:CEST
DTSTART:20260329T010000
END:DAYLIGHT
BEGIN:STANDARD
TZOFFSETFROM:+0200
TZOFFSETTO:+0100
TZNAME:CET
DTSTART:20261025T010000
END:STANDARD
BEGIN:DAYLIGHT
TZOFFSETFROM:+0100
TZOFFSETTO:+0200
TZNAME:CEST
DTSTART:20270328T010000
END:DAYLIGHT
BEGIN:STANDARD
TZOFFSETFROM:+0200
TZOFFSETTO:+0100
TZNAME:CET
DTSTART:20271031T010000
END:STANDARD
END:VTIMEZONE
BEGIN:VEVENT
DTSTART;VALUE=DATE:20260219
DTEND;VALUE=DATE:20260220
DTSTAMP:20260420T135146
CREATED:20251113T120513Z
LAST-MODIFIED:20260418T234536Z
UID:10000288-1771459200-1771545599@www.reicaz.es
SUMMARY:Comisiones CGAE
DESCRIPTION:
URL:https://www.reicaz.es/agenda/copia-comisiones-cgae/
LOCATION:CGAE
CATEGORIES:Decano
END:VEVENT
BEGIN:VEVENT
DTSTART;TZID=Europe/Paris:20260220T093000
DTEND;TZID=Europe/Paris:20260220T113000
DTSTAMP:20260420T135146
CREATED:20260216T160039Z
LAST-MODIFIED:20260420T114541Z
UID:10000393-1771579800-1771587000@www.reicaz.es
SUMMARY:Comisión Deontología
DESCRIPTION:
URL:https://www.reicaz.es/agenda/comision-deontologia-2/
LOCATION:Planta 3ª
CATEGORIES:Junta Gobierno
END:VEVENT
BEGIN:VEVENT
DTSTART;TZID=Europe/Paris:20260220T093000
DTEND;TZID=Europe/Paris:20260220T120000
DTSTAMP:20260420T135146
CREATED:20260216T153043Z
LAST-MODIFIED:20260420T114541Z
UID:10000392-1771579800-1771588800@www.reicaz.es
SUMMARY:Comisión TOF
DESCRIPTION:
URL:https://www.reicaz.es/agenda/comision-tof/
CATEGORIES:Junta Gobierno
END:VEVENT
BEGIN:VEVENT
DTSTART;TZID=Europe/Paris:20260220T100000
DTEND;TZID=Europe/Paris:20260220T140000
DTSTAMP:20260420T135146
CREATED:20251113T120513Z
LAST-MODIFIED:20260418T234536Z
UID:10000289-1771581600-1771596000@www.reicaz.es
SUMMARY:Pleno CGAE
DESCRIPTION:
URL:https://www.reicaz.es/agenda/copia-pleno-cgae-2/
LOCATION:CAGE
CATEGORIES:Decano
END:VEVENT
BEGIN:VEVENT
DTSTART;TZID=Europe/Paris:20260223T160000
DTEND;TZID=Europe/Paris:20260223T183000
DTSTAMP:20260420T135146
CREATED:20260211T163038Z
LAST-MODIFIED:20260418T234537Z
UID:10000387-1771862400-1771871400@www.reicaz.es
SUMMARY:Ponencia Decano "Impacto de la IA en la abogacía"
DESCRIPTION:
URL:https://www.reicaz.es/agenda/ponencia-decano-impacto-de-la-ia-en-la-abogacia/
LOCATION:Universidad de Castilla-La Mancha
CATEGORIES:Decano
END:VEVENT
BEGIN:VEVENT
DTSTART;TZID=Europe/Paris:20260224T100000
DTEND;TZID=Europe/Paris:20260224T120000
DTSTAMP:20260420T135146
CREATED:20260211T163038Z
LAST-MODIFIED:20260418T234537Z
UID:10000388-1771927200-1771934400@www.reicaz.es
SUMMARY:Banco Sabadell\, UPRO
DESCRIPTION:
URL:https://www.reicaz.es/agenda/banco-sabadell-upro/
LOCATION:Madrid
CATEGORIES:Decano
END:VEVENT
BEGIN:VEVENT
DTSTART;TZID=Europe/Paris:20260224T140000
DTEND;TZID=Europe/Paris:20260224T163000
DTSTAMP:20260420T135146
CREATED:20260211T163039Z
LAST-MODIFIED:20260418T234537Z
UID:10000389-1771941600-1771950600@www.reicaz.es
SUMMARY:Almuerzo Líder Club Cámara Zaragoza. El valor de la Justicia en una sociedad inestable con D. Pablo Llanera Conde\, Magistrado Sala 2ª TS
DESCRIPTION:
URL:https://www.reicaz.es/agenda/almuerzo-lider-club-camara-zaragoza-el-valor-de-la-justicia-en-una-sociedad-inestable-con-d-pablo-llanera-conde-magistrado-sala-2a-ts/
LOCATION:Hotel Petronila
CATEGORIES:Decano
END:VEVENT
BEGIN:VEVENT
DTSTART;TZID=Europe/Paris:20260225T093000
DTEND;TZID=Europe/Paris:20260225T123000
DTSTAMP:20260420T135146
CREATED:20260216T160039Z
LAST-MODIFIED:20260420T114541Z
UID:10000394-1772011800-1772022600@www.reicaz.es
SUMMARY:Comisión Honorarios
DESCRIPTION:
URL:https://www.reicaz.es/agenda/comision-honorarios-3/
LOCATION:Sala de Juntas
CATEGORIES:Junta Gobierno
END:VEVENT
BEGIN:VEVENT
DTSTART;TZID=Europe/Paris:20260225T183000
DTEND;TZID=Europe/Paris:20260225T210000
DTSTAMP:20260420T135146
CREATED:20260203T093055Z
LAST-MODIFIED:20260420T114541Z
UID:10000370-1772044200-1772053200@www.reicaz.es
SUMMARY:Junta de Gobierno REICAZ
DESCRIPTION:
URL:https://www.reicaz.es/agenda/junta-de-gobierno-reicaz/
LOCATION:Sala de Juntas
CATEGORIES:Junta Gobierno
END:VEVENT
BEGIN:VEVENT
DTSTART;TZID=Europe/Paris:20260226T120000
DTEND;TZID=Europe/Paris:20260226T123000
DTSTAMP:20260420T135146
CREATED:20260217T113030Z
LAST-MODIFIED:20260226T090103Z
UID:10000395-1772107200-1772109000@www.reicaz.es
SUMMARY:Reunión Diputados TOF con Somos Más
DESCRIPTION:
URL:https://www.reicaz.es/agenda/reunion-diputados-tof-con-somos-mas/
LOCATION:Decanato 2ª planta
CATEGORIES:Junta Gobierno
END:VEVENT
BEGIN:VEVENT
DTSTART;TZID=Europe/Paris:20260226T170000
DTEND;TZID=Europe/Paris:20260226T173000
DTSTAMP:20260420T135146
CREATED:20260204T113033Z
LAST-MODIFIED:20260418T234537Z
UID:10000380-1772125200-1772127000@www.reicaz.es
SUMMARY:Inauguración Foro Mercantil
DESCRIPTION:
URL:https://www.reicaz.es/agenda/inauguracion-foro-mercantil/
CATEGORIES:Decano
END:VEVENT
BEGIN:VEVENT
DTSTART;TZID=Europe/Madrid:20260226T170000
DTEND;TZID=Europe/Madrid:20260227T133000
DTSTAMP:20260420T135146
CREATED:20260126T112143Z
LAST-MODIFIED:20260126T112143Z
UID:10000368-1772125200-1772199000@www.reicaz.es
SUMMARY:Foro de Derecho Mercantil ReICAZ 2026: Miscelánea Temática Mercantil desde la Óptica Práctica y Forense
DESCRIPTION:DESCARGAR \nINSCRIPCIÓN
URL:https://www.reicaz.es/agenda/foro-de-derecho-mercantil-2026/
LOCATION:Planta Baja\, Salón de Actos Carlos Carnicer
CATEGORIES:Formación
ATTACH;FMTTYPE=image/jpeg:https://www.reicaz.es/wp-content/uploads/2026/01/fdm200x200.jpg
END:VEVENT
BEGIN:VEVENT
DTSTART;TZID=Europe/Madrid:20260226T183000
DTEND;TZID=Europe/Madrid:20260226T203000
DTSTAMP:20260420T135146
CREATED:20260210T185823Z
LAST-MODIFIED:20260210T185823Z
UID:10000385-1772130600-1772137800@www.reicaz.es
SUMMARY:Charla sobre el Nuevo Estatus Jurídico  de los Animales de Compañía
DESCRIPTION:DESCARGAR PDF \nINSCRIPCIÓN
URL:https://www.reicaz.es/agenda/charla-sobre-el-nuevo-estatus-juridico-de-los-animales-de-compania/
LOCATION:Decanato. 2ª planta
CATEGORIES:Formación
ATTACH;FMTTYPE=image/jpeg:https://www.reicaz.es/wp-content/uploads/2025/10/anim200x200.jpg
END:VEVENT
BEGIN:VEVENT
DTSTART;TZID=Europe/Madrid:20260227T103000
DTEND;TZID=Europe/Madrid:20260227T133000
DTSTAMP:20260420T135146
CREATED:20260217T124635Z
LAST-MODIFIED:20260217T124717Z
UID:10000397-1772188200-1772199000@www.reicaz.es
SUMMARY:Jornada: Cierre Fiscal y Contable 2025
DESCRIPTION:DESCARGAR PDF \nINSCRIPCIÓN
URL:https://www.reicaz.es/agenda/jornada-cierre-fiscal-y-contable-2025/
LOCATION:Decanato 2ª planta
CATEGORIES:Formación
ATTACH;FMTTYPE=image/jpeg:https://www.reicaz.es/wp-content/uploads/2025/10/aedaf200x200.jpg
END:VEVENT
BEGIN:VEVENT
DTSTART;TZID=Europe/Paris:20260303T100000
DTEND;TZID=Europe/Paris:20260303T110000
DTSTAMP:20260420T135146
CREATED:20260224T090031Z
LAST-MODIFIED:20260420T114541Z
UID:10000400-1772532000-1772535600@www.reicaz.es
SUMMARY:Presentación de la Campaña 8 M "Día Internacional de la Mujer
DESCRIPTION:Asiste Diputada 8ª
URL:https://www.reicaz.es/agenda/presentacion-de-la-campana-8-m-dia-internacional-de-la-mujer/
LOCATION:Salón Recepciones Casa Consistorial
CATEGORIES:Junta Gobierno
END:VEVENT
BEGIN:VEVENT
DTSTART;TZID=Europe/Paris:20260305T160000
DTEND;TZID=Europe/Paris:20260305T183000
DTSTAMP:20260420T135146
CREATED:20260212T090108Z
LAST-MODIFIED:20260219T111542Z
UID:10000390-1772726400-1772735400@www.reicaz.es
SUMMARY:Formación presencial CGAE
DESCRIPTION:AVE IDA 11:43H Y REGRESO 19:34
URL:https://www.reicaz.es/agenda/formacion-presencial-cgae/
LOCATION:CGAE
CATEGORIES:Decano
END:VEVENT
BEGIN:VEVENT
DTSTART;TZID=Europe/Paris:20260309T120000
DTEND;TZID=Europe/Paris:20260309T133000
DTSTAMP:20260420T135146
CREATED:20260225T113032Z
LAST-MODIFIED:20260418T234537Z
UID:10000404-1773057600-1773063000@www.reicaz.es
SUMMARY:Evento CGAE con la Cátedra de la Universidad Politécnica de Madrid
DESCRIPTION:
URL:https://www.reicaz.es/agenda/evento-cgae-con-la-catedra-de-la-universidad-politecnica-de-madrid/
LOCATION:Sede CGAE
CATEGORIES:Decano
END:VEVENT
BEGIN:VEVENT
DTSTART;TZID=Europe/Paris:20260309T160000
DTEND;TZID=Europe/Paris:20260309T183000
DTSTAMP:20260420T135146
CREATED:20260219T114541Z
LAST-MODIFIED:20260418T234537Z
UID:10000399-1773072000-1773081000@www.reicaz.es
SUMMARY:Formación presencial CGAE
DESCRIPTION:AVE IDA 11:43H Y REGRESO 19:34
URL:https://www.reicaz.es/agenda/copia-formacion-presencial-cgae/
LOCATION:CGAE
CATEGORIES:Decano
END:VEVENT
BEGIN:VEVENT
DTSTART;TZID=Europe/Madrid:20260309T170000
DTEND;TZID=Europe/Madrid:20260309T190000
DTSTAMP:20260420T135146
CREATED:20260224T133540Z
LAST-MODIFIED:20260224T133540Z
UID:10000403-1773075600-1773082800@www.reicaz.es
SUMMARY:Charla: Análisis de la Recentísima Jurisprudencia del Tribunal Supremo en Relación a la Segunda Oportunidad\, con Especial Atención al Crédito de Derecho Público
DESCRIPTION:DESCARGAR PDF \nINSCRIPCIÓN
URL:https://www.reicaz.es/agenda/charla-segunda-oportunidad-260309/
LOCATION:Planta Baja\, Salón de Actos Carlos Carnicer
CATEGORIES:Formación
ATTACH;FMTTYPE=image/jpeg:https://www.reicaz.es/wp-content/uploads/2025/10/cm200x200.jpg
END:VEVENT
BEGIN:VEVENT
DTSTART;TZID=Europe/Paris:20260310T190000
DTEND;TZID=Europe/Paris:20260310T203000
DTSTAMP:20260420T135146
CREATED:20260309T163038Z
LAST-MODIFIED:20260418T234537Z
UID:10000407-1773169200-1773174600@www.reicaz.es
SUMMARY:Conferencia sobre "El nuevo régimen fiscal de los pactos sucesorios de presente"\, por el Académico Don Francisco Pozuelo Antoni
DESCRIPTION:
URL:https://www.reicaz.es/agenda/conferencia-sobre-el-nuevo-regimen-fiscal-de-los-pactos-sucesorios-de-presente-por-el-academico-don-francisco-pozuelo-antoni/
LOCATION:Colegio Notarial
CATEGORIES:Decano
END:VEVENT
BEGIN:VEVENT
DTSTART;TZID=Europe/Madrid:20260311T183000
DTEND;TZID=Europe/Madrid:20260311T203000
DTSTAMP:20260420T135146
CREATED:20260217T124359Z
LAST-MODIFIED:20260217T124359Z
UID:10000396-1773253800-1773261000@www.reicaz.es
SUMMARY:Charla: Derechos de los Menores durante la Ejecución y Regímenes de Internamiento en Centro de Reforma
DESCRIPTION:DESCARGAR PDF \nINSCRIPCIÓN
URL:https://www.reicaz.es/agenda/charla-derechos-de-los-menores-260311/
LOCATION:Planta Baja\, Salón de Actos Carlos Carnicer
CATEGORIES:Formación
ATTACH;FMTTYPE=image/jpeg:https://www.reicaz.es/wp-content/uploads/2025/10/sop200x200.jpg
END:VEVENT
BEGIN:VEVENT
DTSTART;TZID=Europe/Paris:20260312T103000
DTEND;TZID=Europe/Paris:20260312T130000
DTSTAMP:20260420T135146
CREATED:20260312T073047Z
LAST-MODIFIED:20260420T114542Z
UID:10000417-1773311400-1773320400@www.reicaz.es
SUMMARY:Comisión Turno Oficio
DESCRIPTION:
URL:https://www.reicaz.es/agenda/comision-turno-oficio/
LOCATION:Sala de TO
CATEGORIES:Junta Gobierno
END:VEVENT
BEGIN:VEVENT
DTSTART;TZID=Europe/Paris:20260312T141500
DTEND;TZID=Europe/Paris:20260312T164500
DTSTAMP:20260420T135146
CREATED:20260309T163038Z
LAST-MODIFIED:20260418T234537Z
UID:10000408-1773324900-1773333900@www.reicaz.es
SUMMARY:Comida jubilación D. Juan Ignacio Medrano Sánchez. Pte. Sec. 4ª AP
DESCRIPTION:
URL:https://www.reicaz.es/agenda/comida-jubilacion-d-juan-ignacio-medrano-sanchez-pte-sec-4a-ap/
LOCATION:Gran Hotel
CATEGORIES:Decano
END:VEVENT
BEGIN:VEVENT
DTSTART;TZID=Europe/Madrid:20260312T160000
DTEND;TZID=Europe/Madrid:20260313T140000
DTSTAMP:20260420T135146
CREATED:20260130T101027Z
LAST-MODIFIED:20260130T101027Z
UID:10000369-1773331200-1773410400@www.reicaz.es
SUMMARY:XXIX Congreso de Responsabilidad Civil y Seguros
DESCRIPTION:MÁS INFORMACIÓN
URL:https://www.reicaz.es/agenda/xxix-congreso-de-rc/
CATEGORIES:Formación
ATTACH;FMTTYPE=image/jpeg:https://www.reicaz.es/wp-content/uploads/2026/01/xxixrc200x200.jpg
END:VEVENT
BEGIN:VEVENT
DTSTART;TZID=Europe/Paris:20260312T163000
DTEND;TZID=Europe/Paris:20260312T170000
DTSTAMP:20260420T135146
CREATED:20260309T163038Z
LAST-MODIFIED:20260418T234537Z
UID:10000409-1773333000-1773334800@www.reicaz.es
SUMMARY:Inauguración congreso RC
DESCRIPTION:
URL:https://www.reicaz.es/agenda/inauguracion-congreso-rc/
LOCATION:Salón de actos
CATEGORIES:Decano
END:VEVENT
BEGIN:VEVENT
DTSTART;TZID=Europe/Paris:20260312T183000
DTEND;TZID=Europe/Paris:20260312T193000
DTSTAMP:20260420T135146
CREATED:20260218T080028Z
LAST-MODIFIED:20260420T114542Z
UID:10000398-1773340200-1773343800@www.reicaz.es
SUMMARY:COMISIÓN FORMACIÓN
DESCRIPTION:
URL:https://www.reicaz.es/agenda/comision-formacion-3/
LOCATION:Planta 4ª REICAZ
CATEGORIES:Junta Gobierno
END:VEVENT
BEGIN:VEVENT
DTSTART;TZID=Europe/Paris:20260313T120000
DTEND;TZID=Europe/Paris:20260313T140000
DTSTAMP:20260420T135146
CREATED:20260224T093036Z
LAST-MODIFIED:20260420T114542Z
UID:10000401-1773403200-1773410400@www.reicaz.es
SUMMARY:Reunión de la Comisión Provincial de Coordinación contra la Violencia de Género
DESCRIPTION:
URL:https://www.reicaz.es/agenda/reunion-de-la-comision-provincial-de-coordinacion-contra-la-violencia-de-genero/
LOCATION:Sala de Vistas nº 3 de la AP. Asiste Dip. 8ª
CATEGORIES:Junta Gobierno
END:VEVENT
BEGIN:VEVENT
DTSTART;TZID=Europe/Paris:20260313T130000
DTEND;TZID=Europe/Paris:20260313T133000
DTSTAMP:20260420T135146
CREATED:20260306T083038Z
LAST-MODIFIED:20260420T114542Z
UID:10000405-1773406800-1773408600@www.reicaz.es
SUMMARY:Jura o promesa de la Procuradora Natalia Llariba Morte
DESCRIPTION:
URL:https://www.reicaz.es/agenda/jura-o-promesa-de-la-procuradora-natalia-llariba-morte/
LOCATION:Sala de Vistas de lo Penal del TSJA. Asiste Vicedacana
CATEGORIES:Junta Gobierno
END:VEVENT
BEGIN:VEVENT
DTSTART;TZID=Europe/Paris:20260313T143000
DTEND;TZID=Europe/Paris:20260313T163000
DTSTAMP:20260420T135146
CREATED:20260309T163038Z
LAST-MODIFIED:20260418T234537Z
UID:10000410-1773412200-1773419400@www.reicaz.es
SUMMARY:I RYDER DE GOLF entre Abogados y Economistas
DESCRIPTION:
URL:https://www.reicaz.es/agenda/i-ryder-de-golf-entre-abogados-y-economistas/
LOCATION:Club de Golf los Lagos
CATEGORIES:Decano
END:VEVENT
BEGIN:VEVENT
DTSTART;TZID=Europe/Paris:20260316T123000
DTEND;TZID=Europe/Paris:20260316T140000
DTSTAMP:20260420T135146
CREATED:20260316T101727Z
LAST-MODIFIED:20260418T234538Z
UID:10000423-1773664200-1773669600@www.reicaz.es
SUMMARY:Visita a los Juzgados con Infraestructuras del Gobierno de Aragón
DESCRIPTION:
URL:https://www.reicaz.es/agenda/visita-a-los-juzgados-con-infraestructuras-del-gobierno-de-aragon/
LOCATION:Juzgado de Guardia y VioGen
CATEGORIES:Decano
END:VEVENT
END:VCALENDAR