BEGIN:VCALENDAR
VERSION:2.0
PRODID:-//Real e Ilustre Colegio de Abogados de Zaragoza - ECPv6.15.8//NONSGML v1.0//EN
CALSCALE:GREGORIAN
METHOD:PUBLISH
X-ORIGINAL-URL:https://www.reicaz.es
X-WR-CALDESC:Eventos para Real e Ilustre Colegio de Abogados de Zaragoza
REFRESH-INTERVAL;VALUE=DURATION:PT1H
X-Robots-Tag:noindex
X-PUBLISHED-TTL:PT1H
BEGIN:VTIMEZONE
TZID:Europe/Paris
BEGIN:DAYLIGHT
TZOFFSETFROM:+0100
TZOFFSETTO:+0200
TZNAME:CEST
DTSTART:20250330T010000
END:DAYLIGHT
BEGIN:STANDARD
TZOFFSETFROM:+0200
TZOFFSETTO:+0100
TZNAME:CET
DTSTART:20251026T010000
END:STANDARD
BEGIN:DAYLIGHT
TZOFFSETFROM:+0100
TZOFFSETTO:+0200
TZNAME:CEST
DTSTART:20260329T010000
END:DAYLIGHT
BEGIN:STANDARD
TZOFFSETFROM:+0200
TZOFFSETTO:+0100
TZNAME:CET
DTSTART:20261025T010000
END:STANDARD
BEGIN:DAYLIGHT
TZOFFSETFROM:+0100
TZOFFSETTO:+0200
TZNAME:CEST
DTSTART:20270328T010000
END:DAYLIGHT
BEGIN:STANDARD
TZOFFSETFROM:+0200
TZOFFSETTO:+0100
TZNAME:CET
DTSTART:20271031T010000
END:STANDARD
END:VTIMEZONE
BEGIN:VEVENT
DTSTART;TZID=Europe/Paris:20260213T120000
DTEND;TZID=Europe/Paris:20260213T130000
DTSTAMP:20260422T103611
CREATED:20260216T153043Z
LAST-MODIFIED:20260421T234531Z
UID:10000391-1770984000-1770987600@www.reicaz.es
SUMMARY:Comisión de Mediación
DESCRIPTION:
URL:https://www.reicaz.es/agenda/comision-de-mediacion/
CATEGORIES:Junta Gobierno
END:VEVENT
BEGIN:VEVENT
DTSTART;TZID=Europe/Paris:20260213T120000
DTEND;TZID=Europe/Paris:20260213T170000
DTSTAMP:20260422T103611
CREATED:20260204T113040Z
LAST-MODIFIED:20260421T234531Z
UID:10000383-1770984000-1771002000@www.reicaz.es
SUMMARY:Reunión partidos judiciales en Calatayud
DESCRIPTION:
URL:https://www.reicaz.es/agenda/reunion-partidos-judiciales-en-calatayud/
LOCATION:Sala planta 4ª Juzgado // Comida Mesón La Dolores
CATEGORIES:Junta Gobierno
END:VEVENT
END:VCALENDAR