BEGIN:VCALENDAR
VERSION:2.0
PRODID:-//Real e Ilustre Colegio de Abogados de Zaragoza - ECPv6.15.8//NONSGML v1.0//EN
CALSCALE:GREGORIAN
METHOD:PUBLISH
X-ORIGINAL-URL:https://www.reicaz.es
X-WR-CALDESC:Eventos para Real e Ilustre Colegio de Abogados de Zaragoza
REFRESH-INTERVAL;VALUE=DURATION:PT1H
X-Robots-Tag:noindex
X-PUBLISHED-TTL:PT1H
BEGIN:VTIMEZONE
TZID:Europe/Paris
BEGIN:DAYLIGHT
TZOFFSETFROM:+0100
TZOFFSETTO:+0200
TZNAME:CEST
DTSTART:20240331T010000
END:DAYLIGHT
BEGIN:STANDARD
TZOFFSETFROM:+0200
TZOFFSETTO:+0100
TZNAME:CET
DTSTART:20241027T010000
END:STANDARD
BEGIN:DAYLIGHT
TZOFFSETFROM:+0100
TZOFFSETTO:+0200
TZNAME:CEST
DTSTART:20250330T010000
END:DAYLIGHT
BEGIN:STANDARD
TZOFFSETFROM:+0200
TZOFFSETTO:+0100
TZNAME:CET
DTSTART:20251026T010000
END:STANDARD
BEGIN:DAYLIGHT
TZOFFSETFROM:+0100
TZOFFSETTO:+0200
TZNAME:CEST
DTSTART:20260329T010000
END:DAYLIGHT
BEGIN:STANDARD
TZOFFSETFROM:+0200
TZOFFSETTO:+0100
TZNAME:CET
DTSTART:20261025T010000
END:STANDARD
END:VTIMEZONE
BEGIN:VEVENT
DTSTART;TZID=Europe/Paris:20251212T090000
DTEND;TZID=Europe/Paris:20251212T093000
DTSTAMP:20260421T210217
CREATED:20251205T083040Z
LAST-MODIFIED:20260418T234533Z
UID:10000336-1765530000-1765531800@www.reicaz.es
SUMMARY:Comisión Garantía Máster. Reunión virtual
DESCRIPTION:
URL:https://www.reicaz.es/agenda/comision-garantia-master-reunion-virtual/
LOCATION:conexión virtual
CATEGORIES:Decano
END:VEVENT
BEGIN:VEVENT
DTSTART;TZID=Europe/Paris:20251212T100000
DTEND;TZID=Europe/Paris:20251212T140000
DTSTAMP:20260421T210217
CREATED:20251113T120513Z
LAST-MODIFIED:20260418T234533Z
UID:10000282-1765533600-1765548000@www.reicaz.es
SUMMARY:Pleno CGAE
DESCRIPTION:________________________________\nFrom: Alfredo Sánchez-Rubio BREXIA\nSent: Friday\, June 27\, 2025 11:42:11 AM (UTC) Coordinated Universal Time\nTo: Alfredo Sánchez-Rubio BREXIA ; Decanato (ReICAZ)\nSubject: Pleno CGAE\nWhen: viernes\, 12 de diciembre de 2025 9:00-13:00.\nWhere: CGAE
URL:https://www.reicaz.es/agenda/copia-fw-pleno-cgae/
LOCATION:CGAE
CATEGORIES:Decano
END:VEVENT
BEGIN:VEVENT
DTSTART;TZID=Europe/Paris:20251212T143000
DTEND;TZID=Europe/Paris:20251212T150000
DTSTAMP:20260421T210217
CREATED:20251210T130041Z
LAST-MODIFIED:20260418T234534Z
UID:10000342-1765549800-1765551600@www.reicaz.es
SUMMARY:Visita Cónsul Marruecos
DESCRIPTION:
URL:https://www.reicaz.es/agenda/visita-consul-marruecos/
LOCATION:Decanato. 2ª planta. Atienden la Vicedecana y el Secretario
CATEGORIES:Decano
END:VEVENT
END:VCALENDAR