BEGIN:VCALENDAR
VERSION:2.0
PRODID:-//Real e Ilustre Colegio de Abogados de Zaragoza - ECPv6.15.8//NONSGML v1.0//EN
CALSCALE:GREGORIAN
METHOD:PUBLISH
X-ORIGINAL-URL:https://www.reicaz.es
X-WR-CALDESC:Eventos para Real e Ilustre Colegio de Abogados de Zaragoza
REFRESH-INTERVAL;VALUE=DURATION:PT1H
X-Robots-Tag:noindex
X-PUBLISHED-TTL:PT1H
BEGIN:VTIMEZONE
TZID:Europe/Paris
BEGIN:DAYLIGHT
TZOFFSETFROM:+0100
TZOFFSETTO:+0200
TZNAME:CEST
DTSTART:20240331T010000
END:DAYLIGHT
BEGIN:STANDARD
TZOFFSETFROM:+0200
TZOFFSETTO:+0100
TZNAME:CET
DTSTART:20241027T010000
END:STANDARD
BEGIN:DAYLIGHT
TZOFFSETFROM:+0100
TZOFFSETTO:+0200
TZNAME:CEST
DTSTART:20250330T010000
END:DAYLIGHT
BEGIN:STANDARD
TZOFFSETFROM:+0200
TZOFFSETTO:+0100
TZNAME:CET
DTSTART:20251026T010000
END:STANDARD
BEGIN:DAYLIGHT
TZOFFSETFROM:+0100
TZOFFSETTO:+0200
TZNAME:CEST
DTSTART:20260329T010000
END:DAYLIGHT
BEGIN:STANDARD
TZOFFSETFROM:+0200
TZOFFSETTO:+0100
TZNAME:CET
DTSTART:20261025T010000
END:STANDARD
END:VTIMEZONE
BEGIN:VTIMEZONE
TZID:Europe/Madrid
BEGIN:DAYLIGHT
TZOFFSETFROM:+0100
TZOFFSETTO:+0200
TZNAME:CEST
DTSTART:20240331T010000
END:DAYLIGHT
BEGIN:STANDARD
TZOFFSETFROM:+0200
TZOFFSETTO:+0100
TZNAME:CET
DTSTART:20241027T010000
END:STANDARD
BEGIN:DAYLIGHT
TZOFFSETFROM:+0100
TZOFFSETTO:+0200
TZNAME:CEST
DTSTART:20250330T010000
END:DAYLIGHT
BEGIN:STANDARD
TZOFFSETFROM:+0200
TZOFFSETTO:+0100
TZNAME:CET
DTSTART:20251026T010000
END:STANDARD
BEGIN:DAYLIGHT
TZOFFSETFROM:+0100
TZOFFSETTO:+0200
TZNAME:CEST
DTSTART:20260329T010000
END:DAYLIGHT
BEGIN:STANDARD
TZOFFSETFROM:+0200
TZOFFSETTO:+0100
TZNAME:CET
DTSTART:20261025T010000
END:STANDARD
END:VTIMEZONE
BEGIN:VEVENT
DTSTART;TZID=Europe/Paris:20251121T113000
DTEND;TZID=Europe/Paris:20251121T140000
DTSTAMP:20260421T190602
CREATED:20251113T120510Z
LAST-MODIFIED:20260418T234531Z
UID:10000275-1763724600-1763733600@www.reicaz.es
SUMMARY:Pleno CCAA
DESCRIPTION:
URL:https://www.reicaz.es/agenda/copia-pleno-ccaa/
CATEGORIES:Decano
END:VEVENT
BEGIN:VEVENT
DTSTART;TZID=Europe/Madrid:20251121T113000
DTEND;TZID=Europe/Madrid:20251121T140000
DTSTAMP:20260421T190602
CREATED:20251119T101250Z
LAST-MODIFIED:20251119T101250Z
UID:10000312-1763724600-1763733600@www.reicaz.es
SUMMARY:Mesa Redonda: Anatomía del Delito de Acoso. Modalidades
DESCRIPTION:DESCARGAR PDF \nINSCRIPCIÓN \n 
URL:https://www.reicaz.es/agenda/mesa-redonda-anatomia-del-delito-de-acoso/
LOCATION:Planta Baja\, Salón de Actos Carlos Carnicer
CATEGORIES:Formación
ATTACH;FMTTYPE=image/jpeg:https://www.reicaz.es/wp-content/uploads/2025/10/sdpia200x200.jpg
END:VEVENT
END:VCALENDAR