BEGIN:VCALENDAR
VERSION:2.0
PRODID:-//Real e Ilustre Colegio de Abogados de Zaragoza - ECPv6.15.8//NONSGML v1.0//EN
CALSCALE:GREGORIAN
METHOD:PUBLISH
X-ORIGINAL-URL:https://www.reicaz.es
X-WR-CALDESC:Eventos para Real e Ilustre Colegio de Abogados de Zaragoza
REFRESH-INTERVAL;VALUE=DURATION:PT1H
X-Robots-Tag:noindex
X-PUBLISHED-TTL:PT1H
BEGIN:VTIMEZONE
TZID:Europe/Paris
BEGIN:DAYLIGHT
TZOFFSETFROM:+0100
TZOFFSETTO:+0200
TZNAME:CEST
DTSTART:20240331T010000
END:DAYLIGHT
BEGIN:STANDARD
TZOFFSETFROM:+0200
TZOFFSETTO:+0100
TZNAME:CET
DTSTART:20241027T010000
END:STANDARD
BEGIN:DAYLIGHT
TZOFFSETFROM:+0100
TZOFFSETTO:+0200
TZNAME:CEST
DTSTART:20250330T010000
END:DAYLIGHT
BEGIN:STANDARD
TZOFFSETFROM:+0200
TZOFFSETTO:+0100
TZNAME:CET
DTSTART:20251026T010000
END:STANDARD
BEGIN:DAYLIGHT
TZOFFSETFROM:+0100
TZOFFSETTO:+0200
TZNAME:CEST
DTSTART:20260329T010000
END:DAYLIGHT
BEGIN:STANDARD
TZOFFSETFROM:+0200
TZOFFSETTO:+0100
TZNAME:CET
DTSTART:20261025T010000
END:STANDARD
END:VTIMEZONE
BEGIN:VEVENT
DTSTART;TZID=Europe/Paris:20251119T103000
DTEND;TZID=Europe/Paris:20251119T120000
DTSTAMP:20260421T191430
CREATED:20251113T015009Z
LAST-MODIFIED:20260421T163027Z
UID:10000269-1763548200-1763553600@www.reicaz.es
SUMMARY:Reunión anual UAVDI
DESCRIPTION:Asiste Diputada 8ª de la Junta de Gobierno
URL:https://www.reicaz.es/agenda/reunion-anual-uavdi/
CATEGORIES:Junta Gobierno
END:VEVENT
BEGIN:VEVENT
DTSTART;TZID=Europe/Paris:20251119T140000
DTEND;TZID=Europe/Paris:20251119T160000
DTSTAMP:20260421T191430
CREATED:20251113T013523Z
LAST-MODIFIED:20260418T234531Z
UID:10000262-1763560800-1763568000@www.reicaz.es
SUMMARY:Comida jubilación D. Francisco Polo
DESCRIPTION:
URL:https://www.reicaz.es/agenda/comida-jubilacion-paco-polo/
CATEGORIES:Decano
END:VEVENT
END:VCALENDAR