BEGIN:VCALENDAR
VERSION:2.0
PRODID:-//Real e Ilustre Colegio de Abogados de Zaragoza - ECPv6.15.8//NONSGML v1.0//EN
CALSCALE:GREGORIAN
METHOD:PUBLISH
X-WR-CALNAME:Real e Ilustre Colegio de Abogados de Zaragoza
X-ORIGINAL-URL:https://www.reicaz.es
X-WR-CALDESC:Eventos para Real e Ilustre Colegio de Abogados de Zaragoza
REFRESH-INTERVAL;VALUE=DURATION:PT1H
X-Robots-Tag:noindex
X-PUBLISHED-TTL:PT1H
BEGIN:VTIMEZONE
TZID:Europe/Madrid
BEGIN:DAYLIGHT
TZOFFSETFROM:+0100
TZOFFSETTO:+0200
TZNAME:CEST
DTSTART:20240331T010000
END:DAYLIGHT
BEGIN:STANDARD
TZOFFSETFROM:+0200
TZOFFSETTO:+0100
TZNAME:CET
DTSTART:20241027T010000
END:STANDARD
BEGIN:DAYLIGHT
TZOFFSETFROM:+0100
TZOFFSETTO:+0200
TZNAME:CEST
DTSTART:20250330T010000
END:DAYLIGHT
BEGIN:STANDARD
TZOFFSETFROM:+0200
TZOFFSETTO:+0100
TZNAME:CET
DTSTART:20251026T010000
END:STANDARD
BEGIN:DAYLIGHT
TZOFFSETFROM:+0100
TZOFFSETTO:+0200
TZNAME:CEST
DTSTART:20260329T010000
END:DAYLIGHT
BEGIN:STANDARD
TZOFFSETFROM:+0200
TZOFFSETTO:+0100
TZNAME:CET
DTSTART:20261025T010000
END:STANDARD
END:VTIMEZONE
BEGIN:VTIMEZONE
TZID:Europe/Paris
BEGIN:DAYLIGHT
TZOFFSETFROM:+0100
TZOFFSETTO:+0200
TZNAME:CEST
DTSTART:20240331T010000
END:DAYLIGHT
BEGIN:STANDARD
TZOFFSETFROM:+0200
TZOFFSETTO:+0100
TZNAME:CET
DTSTART:20241027T010000
END:STANDARD
BEGIN:DAYLIGHT
TZOFFSETFROM:+0100
TZOFFSETTO:+0200
TZNAME:CEST
DTSTART:20250330T010000
END:DAYLIGHT
BEGIN:STANDARD
TZOFFSETFROM:+0200
TZOFFSETTO:+0100
TZNAME:CET
DTSTART:20251026T010000
END:STANDARD
BEGIN:DAYLIGHT
TZOFFSETFROM:+0100
TZOFFSETTO:+0200
TZNAME:CEST
DTSTART:20260329T010000
END:DAYLIGHT
BEGIN:STANDARD
TZOFFSETFROM:+0200
TZOFFSETTO:+0100
TZNAME:CET
DTSTART:20261025T010000
END:STANDARD
END:VTIMEZONE
BEGIN:VEVENT
DTSTART;TZID=Europe/Madrid:20251118T190000
DTEND;TZID=Europe/Madrid:20251118T190000
DTSTAMP:20260421T190750
CREATED:20251027T112726Z
LAST-MODIFIED:20251027T125516Z
UID:10000241-1763492400-1763492400@www.reicaz.es
SUMMARY:Foro de Derecho Aragonés 2025
DESCRIPTION:DESCARGAR PDF
URL:https://www.reicaz.es/agenda/foro-de-derecho-aragones-2025-251118/
LOCATION:Planta Baja\, Salón de Actos Carlos Carnicer
CATEGORIES:Formación
ATTACH;FMTTYPE=image/jpeg:https://www.reicaz.es/wp-content/uploads/2025/10/sdca200x200.jpg
END:VEVENT
BEGIN:VEVENT
DTSTART;TZID=Europe/Paris:20251118T190000
DTEND;TZID=Europe/Paris:20251118T210000
DTSTAMP:20260421T190750
CREATED:20251118T083508Z
LAST-MODIFIED:20260418T234531Z
UID:10000295-1763492400-1763499600@www.reicaz.es
SUMMARY:Foro de Derecho Argonés
DESCRIPTION:
URL:https://www.reicaz.es/agenda/foro-de-derecho-argones/
LOCATION:Salón Carlos Carnicer
CATEGORIES:Decano
END:VEVENT
END:VCALENDAR