BEGIN:VCALENDAR
VERSION:2.0
PRODID:-//Real e Ilustre Colegio de Abogados de Zaragoza - ECPv6.15.8//NONSGML v1.0//EN
CALSCALE:GREGORIAN
METHOD:PUBLISH
X-WR-CALNAME:Real e Ilustre Colegio de Abogados de Zaragoza
X-ORIGINAL-URL:https://www.reicaz.es
X-WR-CALDESC:Eventos para Real e Ilustre Colegio de Abogados de Zaragoza
REFRESH-INTERVAL;VALUE=DURATION:PT1H
X-Robots-Tag:noindex
X-PUBLISHED-TTL:PT1H
BEGIN:VTIMEZONE
TZID:Europe/Paris
BEGIN:DAYLIGHT
TZOFFSETFROM:+0100
TZOFFSETTO:+0200
TZNAME:CEST
DTSTART:20240331T010000
END:DAYLIGHT
BEGIN:STANDARD
TZOFFSETFROM:+0200
TZOFFSETTO:+0100
TZNAME:CET
DTSTART:20241027T010000
END:STANDARD
BEGIN:DAYLIGHT
TZOFFSETFROM:+0100
TZOFFSETTO:+0200
TZNAME:CEST
DTSTART:20250330T010000
END:DAYLIGHT
BEGIN:STANDARD
TZOFFSETFROM:+0200
TZOFFSETTO:+0100
TZNAME:CET
DTSTART:20251026T010000
END:STANDARD
BEGIN:DAYLIGHT
TZOFFSETFROM:+0100
TZOFFSETTO:+0200
TZNAME:CEST
DTSTART:20260329T010000
END:DAYLIGHT
BEGIN:STANDARD
TZOFFSETFROM:+0200
TZOFFSETTO:+0100
TZNAME:CET
DTSTART:20261025T010000
END:STANDARD
END:VTIMEZONE
BEGIN:VTIMEZONE
TZID:Europe/Madrid
BEGIN:DAYLIGHT
TZOFFSETFROM:+0100
TZOFFSETTO:+0200
TZNAME:CEST
DTSTART:20240331T010000
END:DAYLIGHT
BEGIN:STANDARD
TZOFFSETFROM:+0200
TZOFFSETTO:+0100
TZNAME:CET
DTSTART:20241027T010000
END:STANDARD
BEGIN:DAYLIGHT
TZOFFSETFROM:+0100
TZOFFSETTO:+0200
TZNAME:CEST
DTSTART:20250330T010000
END:DAYLIGHT
BEGIN:STANDARD
TZOFFSETFROM:+0200
TZOFFSETTO:+0100
TZNAME:CET
DTSTART:20251026T010000
END:STANDARD
BEGIN:DAYLIGHT
TZOFFSETFROM:+0100
TZOFFSETTO:+0200
TZNAME:CEST
DTSTART:20260329T010000
END:DAYLIGHT
BEGIN:STANDARD
TZOFFSETFROM:+0200
TZOFFSETTO:+0100
TZNAME:CET
DTSTART:20261025T010000
END:STANDARD
END:VTIMEZONE
BEGIN:VEVENT
DTSTART;TZID=Europe/Paris:20251111T100000
DTEND;TZID=Europe/Paris:20251111T110000
DTSTAMP:20260421T192056
CREATED:20251118T113306Z
LAST-MODIFIED:20260418T234530Z
UID:10000307-1762855200-1762858800@www.reicaz.es
SUMMARY:Entrevista con Presidente TSJA\, don Juan José Carbonero
DESCRIPTION:
URL:https://www.reicaz.es/agenda/entrevista-con-presidente-tsja-don-juan-jose-carbonero/
CATEGORIES:Decano
END:VEVENT
BEGIN:VEVENT
DTSTART;TZID=Europe/Paris:20251111T100000
DTEND;TZID=Europe/Paris:20251111T113000
DTSTAMP:20260421T192056
CREATED:20251118T112857Z
LAST-MODIFIED:20260421T171526Z
UID:10000299-1762855200-1762860600@www.reicaz.es
SUMMARY:Reunión Coordinación Delegación Gobierno
DESCRIPTION:
URL:https://www.reicaz.es/agenda/reunion-coordinacion-delegacion-gobierno/
LOCATION:Delegación de Gobierno. Asiste Diputada 8ª
CATEGORIES:Junta Gobierno
END:VEVENT
BEGIN:VEVENT
DTSTART;TZID=Europe/Paris:20251111T120000
DTEND;TZID=Europe/Paris:20251111T130000
DTSTAMP:20260421T192056
CREATED:20251118T113307Z
LAST-MODIFIED:20260418T234530Z
UID:10000308-1762862400-1762866000@www.reicaz.es
SUMMARY:Reunión Consejera de Educación
DESCRIPTION:
URL:https://www.reicaz.es/agenda/copia-reunion-consejera-de-educacion/
LOCATION:Avenida Ranillas\, 5 D\, 3ª planta
CATEGORIES:Decano
END:VEVENT
BEGIN:VEVENT
DTSTART;TZID=Europe/Madrid:20251111T183000
DTEND;TZID=Europe/Madrid:20251111T190000
DTSTAMP:20260421T192056
CREATED:20251022T013018Z
LAST-MODIFIED:20251022T013018Z
UID:10000237-1762885800-1762887600@www.reicaz.es
SUMMARY:Firma Convenio Foro Derecho Aragonés
DESCRIPTION:
URL:https://www.reicaz.es/agenda/firma-convenio-foro-derecho-aragones/
CATEGORIES:Decano
END:VEVENT
BEGIN:VEVENT
DTSTART;TZID=Europe/Paris:20251111T183000
DTEND;TZID=Europe/Paris:20251111T190000
DTSTAMP:20260421T192056
CREATED:20251118T113314Z
LAST-MODIFIED:20260418T234530Z
UID:10000310-1762885800-1762887600@www.reicaz.es
SUMMARY:Firma Convenio Foro Derecho Aragonés
DESCRIPTION:
URL:https://www.reicaz.es/agenda/copia-firma-convenio-foro-derecho-aragones/
LOCATION:Sala de Juntas
CATEGORIES:Decano
END:VEVENT
BEGIN:VEVENT
DTSTART;TZID=Europe/Madrid:20251111T190000
DTEND;TZID=Europe/Madrid:20251111T190000
DTSTAMP:20260421T192056
CREATED:20251027T112542Z
LAST-MODIFIED:20251027T125230Z
UID:10000240-1762887600-1762887600@www.reicaz.es
SUMMARY:Foro de Derecho Aragonés 2025
DESCRIPTION:DESCARGAR PDF
URL:https://www.reicaz.es/agenda/foro-de-derecho-aragones-2025-251111/
LOCATION:Planta Baja\, Salón de Actos Carlos Carnicer
CATEGORIES:Formación
ATTACH;FMTTYPE=image/jpeg:https://www.reicaz.es/wp-content/uploads/2025/10/sdca200x200.jpg
END:VEVENT
BEGIN:VEVENT
DTSTART;TZID=Europe/Madrid:20251111T190000
DTEND;TZID=Europe/Madrid:20251111T203000
DTSTAMP:20260421T192056
CREATED:20251022T013124Z
LAST-MODIFIED:20251022T013124Z
UID:10000238-1762887600-1762893000@www.reicaz.es
SUMMARY:XXXIV Encuentros del Foro de Derecho Aragonés.
DESCRIPTION:Sesión Inaugural.
URL:https://www.reicaz.es/agenda/xxxiv-encuentros-del-foro-de-derecho-aragones/
CATEGORIES:Decano
END:VEVENT
BEGIN:VEVENT
DTSTART;TZID=Europe/Paris:20251111T190000
DTEND;TZID=Europe/Paris:20251111T203000
DTSTAMP:20260421T192056
CREATED:20251118T113307Z
LAST-MODIFIED:20260418T234530Z
UID:10000309-1762887600-1762893000@www.reicaz.es
SUMMARY:Foro aragonés\, sesión inaugural
DESCRIPTION:
URL:https://www.reicaz.es/agenda/copia-foro-aragones-sesion-inaugural/
LOCATION:Salón Carnicer
CATEGORIES:Decano
END:VEVENT
END:VCALENDAR