BEGIN:VCALENDAR
VERSION:2.0
PRODID:-//Real e Ilustre Colegio de Abogados de Zaragoza - ECPv6.15.8//NONSGML v1.0//EN
CALSCALE:GREGORIAN
METHOD:PUBLISH
X-WR-CALNAME:Real e Ilustre Colegio de Abogados de Zaragoza
X-ORIGINAL-URL:https://www.reicaz.es
X-WR-CALDESC:Eventos para Real e Ilustre Colegio de Abogados de Zaragoza
REFRESH-INTERVAL;VALUE=DURATION:PT1H
X-Robots-Tag:noindex
X-PUBLISHED-TTL:PT1H
BEGIN:VTIMEZONE
TZID:Europe/Paris
BEGIN:DAYLIGHT
TZOFFSETFROM:+0100
TZOFFSETTO:+0200
TZNAME:CEST
DTSTART:20240331T010000
END:DAYLIGHT
BEGIN:STANDARD
TZOFFSETFROM:+0200
TZOFFSETTO:+0100
TZNAME:CET
DTSTART:20241027T010000
END:STANDARD
BEGIN:DAYLIGHT
TZOFFSETFROM:+0100
TZOFFSETTO:+0200
TZNAME:CEST
DTSTART:20250330T010000
END:DAYLIGHT
BEGIN:STANDARD
TZOFFSETFROM:+0200
TZOFFSETTO:+0100
TZNAME:CET
DTSTART:20251026T010000
END:STANDARD
BEGIN:DAYLIGHT
TZOFFSETFROM:+0100
TZOFFSETTO:+0200
TZNAME:CEST
DTSTART:20260329T010000
END:DAYLIGHT
BEGIN:STANDARD
TZOFFSETFROM:+0200
TZOFFSETTO:+0100
TZNAME:CET
DTSTART:20261025T010000
END:STANDARD
END:VTIMEZONE
BEGIN:VEVENT
DTSTART;TZID=Europe/Paris:20251110T090000
DTEND;TZID=Europe/Paris:20251110T120000
DTSTAMP:20260421T190058
CREATED:20251118T112857Z
LAST-MODIFIED:20260421T163027Z
UID:10000298-1762765200-1762776000@www.reicaz.es
SUMMARY:Comisión Turno de Oficio
DESCRIPTION:
URL:https://www.reicaz.es/agenda/comision-turno-de-oficio/
LOCATION:Sala de TO
CATEGORIES:Junta Gobierno
END:VEVENT
BEGIN:VEVENT
DTSTART;TZID=Europe/Paris:20251110T123000
DTEND;TZID=Europe/Paris:20251110T140000
DTSTAMP:20260421T190058
CREATED:20251118T113306Z
LAST-MODIFIED:20260418T234530Z
UID:10000306-1762777800-1762783200@www.reicaz.es
SUMMARY:Charla práctica sobre IA para personal REICAZ
DESCRIPTION:
URL:https://www.reicaz.es/agenda/charla-practica-sobre-ia-para-personal-reicaz/
CATEGORIES:Decano
END:VEVENT
END:VCALENDAR