BEGIN:VCALENDAR
VERSION:2.0
PRODID:-//Real e Ilustre Colegio de Abogados de Zaragoza - ECPv6.15.8//NONSGML v1.0//EN
CALSCALE:GREGORIAN
METHOD:PUBLISH
X-ORIGINAL-URL:https://www.reicaz.es
X-WR-CALDESC:Eventos para Real e Ilustre Colegio de Abogados de Zaragoza
REFRESH-INTERVAL;VALUE=DURATION:PT1H
X-Robots-Tag:noindex
X-PUBLISHED-TTL:PT1H
BEGIN:VTIMEZONE
TZID:Europe/Paris
BEGIN:DAYLIGHT
TZOFFSETFROM:+0100
TZOFFSETTO:+0200
TZNAME:CEST
DTSTART:20240331T010000
END:DAYLIGHT
BEGIN:STANDARD
TZOFFSETFROM:+0200
TZOFFSETTO:+0100
TZNAME:CET
DTSTART:20241027T010000
END:STANDARD
BEGIN:DAYLIGHT
TZOFFSETFROM:+0100
TZOFFSETTO:+0200
TZNAME:CEST
DTSTART:20250330T010000
END:DAYLIGHT
BEGIN:STANDARD
TZOFFSETFROM:+0200
TZOFFSETTO:+0100
TZNAME:CET
DTSTART:20251026T010000
END:STANDARD
BEGIN:DAYLIGHT
TZOFFSETFROM:+0100
TZOFFSETTO:+0200
TZNAME:CEST
DTSTART:20260329T010000
END:DAYLIGHT
BEGIN:STANDARD
TZOFFSETFROM:+0200
TZOFFSETTO:+0100
TZNAME:CET
DTSTART:20261025T010000
END:STANDARD
END:VTIMEZONE
BEGIN:VTIMEZONE
TZID:Europe/Madrid
BEGIN:DAYLIGHT
TZOFFSETFROM:+0100
TZOFFSETTO:+0200
TZNAME:CEST
DTSTART:20240331T010000
END:DAYLIGHT
BEGIN:STANDARD
TZOFFSETFROM:+0200
TZOFFSETTO:+0100
TZNAME:CET
DTSTART:20241027T010000
END:STANDARD
BEGIN:DAYLIGHT
TZOFFSETFROM:+0100
TZOFFSETTO:+0200
TZNAME:CEST
DTSTART:20250330T010000
END:DAYLIGHT
BEGIN:STANDARD
TZOFFSETFROM:+0200
TZOFFSETTO:+0100
TZNAME:CET
DTSTART:20251026T010000
END:STANDARD
BEGIN:DAYLIGHT
TZOFFSETFROM:+0100
TZOFFSETTO:+0200
TZNAME:CEST
DTSTART:20260329T010000
END:DAYLIGHT
BEGIN:STANDARD
TZOFFSETFROM:+0200
TZOFFSETTO:+0100
TZNAME:CET
DTSTART:20261025T010000
END:STANDARD
END:VTIMEZONE
BEGIN:VEVENT
DTSTART;TZID=Europe/Paris:20251107T090000
DTEND;TZID=Europe/Paris:20251107T130000
DTSTAMP:20260421T185005
CREATED:20251118T112857Z
LAST-MODIFIED:20260421T163027Z
UID:10000297-1762506000-1762520400@www.reicaz.es
SUMMARY:Reunión honorarios.
DESCRIPTION:
URL:https://www.reicaz.es/agenda/reunion-honorarios/
CATEGORIES:Junta Gobierno
END:VEVENT
BEGIN:VEVENT
DTSTART;TZID=Europe/Madrid:20251107T100000
DTEND;TZID=Europe/Madrid:20251107T140000
DTSTAMP:20260421T185005
CREATED:20251022T012810Z
LAST-MODIFIED:20251022T012810Z
UID:10000235-1762509600-1762524000@www.reicaz.es
SUMMARY:Pleno CGAE
DESCRIPTION:
URL:https://www.reicaz.es/agenda/pleno-cgae/
CATEGORIES:Decano
END:VEVENT
BEGIN:VEVENT
DTSTART;TZID=Europe/Paris:20251107T100000
DTEND;TZID=Europe/Paris:20251107T140000
DTSTAMP:20260421T185005
CREATED:20251118T113306Z
LAST-MODIFIED:20260418T234530Z
UID:10000304-1762509600-1762524000@www.reicaz.es
SUMMARY:Pleno CGAE
DESCRIPTION:________________________________\nFrom: Alfredo Sánchez-Rubio BREXIA\nSent: Friday\, June 27\, 2025 11:45:27 AM (UTC) Coordinated Universal Time\nTo: Alfredo Sánchez-Rubio BREXIA ; Decanato (ReICAZ)\nSubject: Pleno\nWhen: viernes\, 7 de noviembre de 2025 9:00-13:00.\nWhere: CGAE
URL:https://www.reicaz.es/agenda/copia-fw-pleno/
LOCATION:CGAE
CATEGORIES:Decano
END:VEVENT
BEGIN:VEVENT
DTSTART;TZID=Europe/Madrid:20251107T120000
DTEND;TZID=Europe/Madrid:20251107T140000
DTSTAMP:20260421T185005
CREATED:20251103T102517Z
LAST-MODIFIED:20251103T102628Z
UID:10000244-1762516800-1762524000@www.reicaz.es
SUMMARY:Charla: Elementos Periciales Forenses a Tener en Cuenta en la Investigación de la Violencia Sexual
DESCRIPTION:DESCARGAR PDF \nINSCRIPCIÓN
URL:https://www.reicaz.es/agenda/charla-elementos-periciales-251107/
LOCATION:Planta 2ª\, Salón de Decanato
CATEGORIES:Formación
ATTACH;FMTTYPE=image/jpeg:https://www.reicaz.es/wp-content/uploads/2025/11/tof200x200.jpg
END:VEVENT
BEGIN:VEVENT
DTSTART;TZID=Europe/Madrid:20251107T200000
DTEND;TZID=Europe/Madrid:20251107T230000
DTSTAMP:20260421T185005
CREATED:20251022T012924Z
LAST-MODIFIED:20251022T012924Z
UID:10000236-1762545600-1762556400@www.reicaz.es
SUMMARY:Día del Patrón del Colegio de Economistas
DESCRIPTION:
URL:https://www.reicaz.es/agenda/dia-del-patron-del-colegio-de-economistas/
CATEGORIES:Decano
END:VEVENT
BEGIN:VEVENT
DTSTART;TZID=Europe/Paris:20251107T200000
DTEND;TZID=Europe/Paris:20251107T230000
DTSTAMP:20260421T185005
CREATED:20251118T113306Z
LAST-MODIFIED:20260418T234530Z
UID:10000305-1762545600-1762556400@www.reicaz.es
SUMMARY:Día del Patrón del Colegio de Economistas
DESCRIPTION:
URL:https://www.reicaz.es/agenda/copia-dia-del-patron-del-colegio-de-economistas/
CATEGORIES:Decano
END:VEVENT
END:VCALENDAR