BEGIN:VCALENDAR
VERSION:2.0
PRODID:-//Real e Ilustre Colegio de Abogados de Zaragoza - ECPv6.15.8//NONSGML v1.0//EN
CALSCALE:GREGORIAN
METHOD:PUBLISH
X-ORIGINAL-URL:https://www.reicaz.es
X-WR-CALDESC:Eventos para Real e Ilustre Colegio de Abogados de Zaragoza
REFRESH-INTERVAL;VALUE=DURATION:PT1H
X-Robots-Tag:noindex
X-PUBLISHED-TTL:PT1H
BEGIN:VTIMEZONE
TZID:Europe/Madrid
BEGIN:DAYLIGHT
TZOFFSETFROM:+0100
TZOFFSETTO:+0200
TZNAME:CEST
DTSTART:20240331T010000
END:DAYLIGHT
BEGIN:STANDARD
TZOFFSETFROM:+0200
TZOFFSETTO:+0100
TZNAME:CET
DTSTART:20241027T010000
END:STANDARD
BEGIN:DAYLIGHT
TZOFFSETFROM:+0100
TZOFFSETTO:+0200
TZNAME:CEST
DTSTART:20250330T010000
END:DAYLIGHT
BEGIN:STANDARD
TZOFFSETFROM:+0200
TZOFFSETTO:+0100
TZNAME:CET
DTSTART:20251026T010000
END:STANDARD
BEGIN:DAYLIGHT
TZOFFSETFROM:+0100
TZOFFSETTO:+0200
TZNAME:CEST
DTSTART:20260329T010000
END:DAYLIGHT
BEGIN:STANDARD
TZOFFSETFROM:+0200
TZOFFSETTO:+0100
TZNAME:CET
DTSTART:20261025T010000
END:STANDARD
END:VTIMEZONE
BEGIN:VEVENT
DTSTART;TZID=Europe/Madrid:20251029T093000
DTEND;TZID=Europe/Madrid:20251029T113000
DTSTAMP:20260421T111205
CREATED:20251110T075908Z
LAST-MODIFIED:20251110T075908Z
UID:10000248-1761730200-1761737400@www.reicaz.es
SUMMARY:Presentación del programa UPRO en Competencias Digitales. Casa América. Madrid
DESCRIPTION:
URL:https://www.reicaz.es/agenda/presentacion-del-programa-upro-en-competencias-digitales-casa-america-madrid/
CATEGORIES:Decano
END:VEVENT
BEGIN:VEVENT
DTSTART;TZID=Europe/Madrid:20251029T130000
DTEND;TZID=Europe/Madrid:20251031T140000
DTSTAMP:20260421T111205
CREATED:20251022T012441Z
LAST-MODIFIED:20251022T012441Z
UID:10000232-1761742800-1761919200@www.reicaz.es
SUMMARY:Congreso ICA Málaga.
DESCRIPTION:
URL:https://www.reicaz.es/agenda/congreso-ica-malaga/
CATEGORIES:Decano
END:VEVENT
BEGIN:VEVENT
DTSTART;TZID=Europe/Madrid:20251029T180000
DTEND;TZID=Europe/Madrid:20251029T180000
DTSTAMP:20260421T111205
CREATED:20251009T095416Z
LAST-MODIFIED:20251015T020944Z
UID:10000193-1761760800-1761760800@www.reicaz.es
SUMMARY:Mesa Redonda: Externalización en S.A.M.A. – Servicio Aragonés de Mediación y Arbitraje – de la Conciliación Judicial
DESCRIPTION:DESCARGAR PDF \nINSCRIPCIÓN
URL:https://www.reicaz.es/agenda/mesa-redonda-externalizacion-en-s-a-m-a-servicio-aragones-de-mediacion-y-arbitraje-de-la-conciliacion-judicial/
LOCATION:Planta Baja\, Salón de Actos Carlos Carnicer
CATEGORIES:Formación
ATTACH;FMTTYPE=image/jpeg:https://www.reicaz.es/wp-content/uploads/2025/10/dl2200x200.jpg
END:VEVENT
END:VCALENDAR